BEGIN:VCALENDAR
VERSION:2.0
PRODID:-//Integrative Healing Arts Studio - ECPv6.15.17.1//NONSGML v1.0//EN
CALSCALE:GREGORIAN
METHOD:PUBLISH
X-ORIGINAL-URL:https://integrativehealingartsstudio.org
X-WR-CALDESC:Events for Integrative Healing Arts Studio
REFRESH-INTERVAL;VALUE=DURATION:PT1H
X-Robots-Tag:noindex
X-PUBLISHED-TTL:PT1H
BEGIN:VTIMEZONE
TZID:America/New_York
BEGIN:DAYLIGHT
TZOFFSETFROM:-0500
TZOFFSETTO:-0400
TZNAME:EDT
DTSTART:20150308T070000
END:DAYLIGHT
BEGIN:STANDARD
TZOFFSETFROM:-0400
TZOFFSETTO:-0500
TZNAME:EST
DTSTART:20151101T060000
END:STANDARD
BEGIN:DAYLIGHT
TZOFFSETFROM:-0500
TZOFFSETTO:-0400
TZNAME:EDT
DTSTART:20160313T070000
END:DAYLIGHT
BEGIN:STANDARD
TZOFFSETFROM:-0400
TZOFFSETTO:-0500
TZNAME:EST
DTSTART:20161106T060000
END:STANDARD
BEGIN:DAYLIGHT
TZOFFSETFROM:-0500
TZOFFSETTO:-0400
TZNAME:EDT
DTSTART:20170312T070000
END:DAYLIGHT
BEGIN:STANDARD
TZOFFSETFROM:-0400
TZOFFSETTO:-0500
TZNAME:EST
DTSTART:20171105T060000
END:STANDARD
END:VTIMEZONE
BEGIN:VEVENT
DTSTART;TZID=America/New_York:20160618T110000
DTEND;TZID=America/New_York:20160618T180000
DTSTAMP:20260424T224740
CREATED:20160611T125248Z
LAST-MODIFIED:20160611T125248Z
UID:659-1466247600-1466272800@integrativehealingartsstudio.org
SUMMARY:Art on the Avenue Open House
DESCRIPTION:Come out for West Reading’s Art on the Avenue and stop by the studio from 11am-6pm! Chair massage\, Reiki\, healing boutique\, Wicked Mystic Artwork by Jan Gaul\, and other handcrafted items will be here.
URL:https://integrativehealingartsstudio.org/event/art-on-the-avenue-open-house/
LOCATION:Integrative Healing Arts Studio\, 546 Penn Ave\, West Reading\, 19611\, United States
END:VEVENT
BEGIN:VEVENT
DTSTART;TZID=America/New_York:20160612T090000
DTEND;TZID=America/New_York:20160612T120000
DTSTAMP:20260424T224740
CREATED:20160513T105316Z
LAST-MODIFIED:20160513T105839Z
UID:587-1465722000-1465732800@integrativehealingartsstudio.org
SUMMARY:Crystal Therapy Beginner Class
DESCRIPTION:Crystals and gemstones have been used for thousands of years as powerful healing aids. We may not always be conscious of it\, but Crystal Therapy is part of our everyday life. We use the power of crystals in the form of rock salt and season our food using table salt crystals. Many people wear precious\, semi-precious stones and different minerals not only as jewelry but for their healing benefits as well.  Crystal healing is a powerful\, yet gentle therapy that works on all levels of the body\, mind and spirit. Crystals have the potential to help all of us in a specialized way. You’ll discover how they can draw in and radiate healing energy specific to each symptom of illness. \nThis is a beginner class for those that are new to crystals or would like to further their knowledge in the use of crystals. Class time is 3 hours.  In this class we will explore how crystals synchronize with the seven major chakras for healing and clearing of energy fields.  A set of chakra stones and a pendulum will be included in the price of the class.  We will focus on the healing properties of the stones given in the class and how to use them. \nIn addition\, this class explains how to store and care for your crystals by cleaning\, clearing and charging them to amplify their healing abilities. We’ll also focus on some of the ways crystals and other stones are used in healing methods\, enhancing meditation\, and promoting spiritual development. \nThis class will give you a deeper understanding in one of Mother Nature’s wonderful and natural therapies\, and you’ll soon find yourself pleasantly involved in crystal energy as part of your daily life.\n\nIf you are a Licensed Massage Therapist\, 3 CEU’s will be awarded for this class.  You will learn how to use Crystal Therapy as a stand alone service or how to integrate crystals into your massage sessions.Please see the Classes and Continuing Education Page for important information about continuing education classes.\n\nIf you are a Reiki practitioner crystals can be a wonderful addition to your services as well.  I will show you ways to integrate crystals into your Reiki sessions.\n\nFor this class we will be working on yoga mats.  Please bring one if you have one.  Wear comfortable clothing.\n\nCost of class is $75 and includes crystals and a pendulum. Class size is limited to 6 people.  Registration is required prior to class with a non-refundable deposit of $25. There is a minimum number of students needed to hold this class\, if that is not met the date will be rescheduled.  Private one on one or group classes can be scheduled. Special discounts for private group classes are available. Payment in full is due on the day of class. Registration closes on 6/5.
URL:https://integrativehealingartsstudio.org/event/crystal-therapy-beginner-class-2/
LOCATION:Integrative Healing Arts Studio\, 546 Penn Ave\, West Reading\, 19611\, United States
END:VEVENT
BEGIN:VEVENT
DTSTART;TZID=America/New_York:20160610T173000
DTEND;TZID=America/New_York:20160610T200000
DTSTAMP:20260424T224740
CREATED:20160501T113931Z
LAST-MODIFIED:20160501T114134Z
UID:563-1465579800-1465588800@integrativehealingartsstudio.org
SUMMARY:Pet Sketches by Jan Gaul~2nd Friday Fundraiser for the ARL of Berks County
DESCRIPTION:See the Animal Rescue League of Berks County’s Event for more details.  Artist Jan Gaul will be offering 5″ x 7″ charcoal pencil pet sketches to the first 10 people who make a donation of $40 to the Animal Rescue League of Berks County. These unique sketches will not be offered again until the fall. During this event I will also be offering chair massage and short Reiki sessions for $1.00 per minute to benefit the ARL. Pets are welcome for Reiki too 🙂 \nPlease contact the Animal Rescue League of Berks County to make your donation. Once you make your donation you will be contacted and instructed where to send your photo of your pet (cat or dog) the clearer the image the better. One animal per photo please. \nYour sketch will then be on display a the Integrative Healing Arts Studio in West Reading during the Second Friday event. The ARL will be there with adoptables. You can pick-up your sketch at the event or anytime after at the shelter during normal business hours. HURRY UP AND BE ONE OF THE FIRST TO DONATE AND GET YOUR ONE-OF-A-KIND PIECE OF ART!\n100% of donation goes to the Animal Rescue League of Berks County. THANK YOU JAN! We appreciate your time and talent.
URL:https://integrativehealingartsstudio.org/event/pet-sketches-by-jan-gaul2nd-friday-fundraiser-for-the-arl-of-berks-county/
LOCATION:Integrative Healing Arts Studio\, 546 Penn Ave\, West Reading\, 19611\, United States
ATTACH;FMTTYPE=image/jpeg:https://integrativehealingartsstudio.org/wp-content/uploads/2016/05/13102756_1302524426428808_8147336530534407257_n.jpg
END:VEVENT
BEGIN:VEVENT
DTSTART;TZID=America/New_York:20160604T140000
DTEND;TZID=America/New_York:20160604T153000
DTSTAMP:20260424T224740
CREATED:20160512T114414Z
LAST-MODIFIED:20160512T114414Z
UID:583-1465048800-1465054200@integrativehealingartsstudio.org
SUMMARY:Herbal Workshop~Making Garden Tea
DESCRIPTION:Herbal medicine is the people’s medicine! Join us for a fun workshop to learn about the wonderful world of healing herbs. This workshop features my garden tea recipe from growing the herbs to making a refreshing summer tea and learning about their specific healing properties.   Potted herb plants will be included in the class for you to take home and plant. Full payment is due at registration and is non-refundable if cancelled without 24 hours notice before class.  Space is limited and fills up quickly. \nClass consists of: \n\nhealing properties of the herbs selected\nhow to grow and harvest your herbs\nI will show you how to make a delicious tea from the herbs and we will sample it\nyou will go home with your own potted herbs to start your tea garden\nyou will go home with a bunch of cut herbs to make tea with right away or dry if you choose
URL:https://integrativehealingartsstudio.org/event/herbal-workshopmaking-garden-tea/
LOCATION:Integrative Healing Arts Studio\, 546 Penn Ave\, West Reading\, 19611\, United States
ATTACH;FMTTYPE=image/jpeg:https://integrativehealingartsstudio.org/wp-content/uploads/2016/05/IMG_2473.jpg
END:VEVENT
BEGIN:VEVENT
DTSTART;TZID=America/New_York:20160604T093000
DTEND;TZID=America/New_York:20160604T133000
DTSTAMP:20260424T224740
CREATED:20160413T011709Z
LAST-MODIFIED:20160419T112715Z
UID:508-1465032600-1465047000@integrativehealingartsstudio.org
SUMMARY:Reiki Level I Class
DESCRIPTION:This is a 2 day class\, 6/4 & 6/5 9:30-1:30\, you must attend both days. \nLevel I (First Degree) The gentle art of Reiki draws on universal life energy to benefit people of any age and in any state of health. Whether at home\, clinic or hospital\, Reiki adapts easily to any situation. Reiki offers comfort\, nurture and support for the good health and balance of your mind\, body and emotions. \nIn this degree you are connected to the source of healing Reiki energy which has the ability to gently and powerfully promote balance among all the body’s systems and the regenerative processes of body and mind. \nThis level will help to bring about your own self development and bring harmony and healing into your life. Level I includes an overview of the history of Reiki\, the hand placements and self and group practice. You will also be introduced to and learn about the chakra system. \nRegistration and $50 deposit is due by 5/20.  Call 610-451-9577 to register. Anyone can learn\, 8 CEU’s for LMT’s.  There is a minimum amount of students needed to hold the class or date will be rescheduled. \nPlease note that it appears that in the 2019 renewal year the State of Pa will no longer accept continuing education from courses that are excluded from requiring licensure like Reiki\, Reflexology\, etc. per Section 13 of the Pa State Massage Therapy Law.\nAny continuing education taken in these subjects for the 2017 renewal will be accepted so if you are considering learning Reiki or other modalities that are excluded for CEU’s this is the year to do it! If you are coming from another state for continuing education please verify with your state to make sure you can get credits in these subjects. I will continue to offer CEU’s in these courses for those states that accept them.  \n 
URL:https://integrativehealingartsstudio.org/event/reiki-level-i-class-2/
LOCATION:Integrative Healing Arts Studio\, 546 Penn Ave\, West Reading\, 19611\, United States
END:VEVENT
BEGIN:VEVENT
DTSTART;TZID=America/New_York:20160522T110000
DTEND;TZID=America/New_York:20160522T120000
DTSTAMP:20260424T224740
CREATED:20160429T232834Z
LAST-MODIFIED:20160506T113115Z
UID:556-1463914800-1463918400@integrativehealingartsstudio.org
SUMMARY:Full Moon Release Crystal Meditation
DESCRIPTION:Join us for a relaxing and healing meditation that incorporates crystals and sound healing music to facilitate release of what no longer serves you.  Reiki is shared during the meditation.  A crystal set is included in the price of the class.  Bring a yoga mat.  Registration must be completed at the link below by 5/15. Space is very limited\, payment is required during registration to hold your space and is non-refundable if cancelled without 24 hour notice before class.
URL:https://integrativehealingartsstudio.org/event/full-moon-release-crystal-meditation/
LOCATION:Integrative Healing Arts Studio\, 546 Penn Ave\, West Reading\, 19611\, United States
END:VEVENT
BEGIN:VEVENT
DTSTART;TZID=America/New_York:20160522T093000
DTEND;TZID=America/New_York:20160522T103000
DTSTAMP:20260424T224740
CREATED:20160429T232338Z
LAST-MODIFIED:20160429T232338Z
UID:555-1463909400-1463913000@integrativehealingartsstudio.org
SUMMARY:Sunday Morning Tao~Tending Our Garden~Taoist Yoga Group Class
DESCRIPTION:The healing art of Taoist Yoga is based on WuXing\, the Chinese five alchemical elements of Earth\, Metal\, Water\, Wood & Fire as they are transmuted into Qi (vital life force energy) within the body by moving and static postures to create well being and balance within the body\, mind & spirit. Space is very limited.  Registration is required at the link below by 5/15. Bring a yoga mat.
URL:https://integrativehealingartsstudio.org/event/sunday-morning-taotending-our-gardentaoist-yoga-group-class/
LOCATION:Integrative Healing Arts Studio\, 546 Penn Ave\, West Reading\, 19611\, United States
ATTACH;FMTTYPE=image/jpeg:https://integrativehealingartsstudio.org/wp-content/uploads/2015/10/5-elements-e1458609798177.jpg
END:VEVENT
BEGIN:VEVENT
DTSTART;TZID=America/New_York:20160513T173000
DTEND;TZID=America/New_York:20160513T200000
DTSTAMP:20260424T224740
CREATED:20160413T005815Z
LAST-MODIFIED:20160429T233112Z
UID:505-1463160600-1463169600@integrativehealingartsstudio.org
SUMMARY:2nd Friday Open House~Fundraiser for The Wellness Center for Pets and Their People
DESCRIPTION:The Wellness Center for Pets & Their People will be here for 2nd Friday\, come out and support a wonderful mission and bring items for the Pet Food Pantry. Find out more information about The Wellness Center For Pets and Their People at website link below. Items appreciated are pet food and supplies\, clothing and monetary donations. Donations are tax deductible.   I created some special Enchanted Tea Lights to benefit the event and they will be available during the event\, all sales of the tealight will go directly to this wonderful mission. Make a pet food\, supply\, or monetary donation this evening and get a coupon for $10 off your next 1 hr service at the studio.
URL:https://integrativehealingartsstudio.org/event/2nd-friday-open-housefundraiser-for-the-wellness-center-for-pets-and-their-people/
LOCATION:Integrative Healing Arts Studio\, 546 Penn Ave\, West Reading\, 19611\, United States
END:VEVENT
BEGIN:VEVENT
DTSTART;TZID=America/New_York:20160424T093000
DTEND;TZID=America/New_York:20160424T123000
DTSTAMP:20260424T224740
CREATED:20160324T122639Z
LAST-MODIFIED:20160405T200956Z
UID:441-1461490200-1461501000@integrativehealingartsstudio.org
SUMMARY:Crystal Therapy Beginner Class
DESCRIPTION:This is a beginner class for those that are new to crystals or would like to further their knowledge in the use of crystals. Class time is 3 hours. In this class we will explore how crystals synchronize with the seven major chakras for healing and clearing of energy fields. A set of chakra stones and a pendulum will be included in the price of the class. We will focus on the healing properties of the stones given in the class and how to use them. \nIn addition\, this class explains how to store and care for your crystals by cleaning\, clearing and charging them to amplify their healing abilities. We’ll also focus on some of the ways crystals and other stones are used in healing methods\, enhancing meditation\, and promoting spiritual development. \nThis class will give you a deeper understanding in one of Mother Nature’s wonderful and natural therapies\, and you’ll soon find yourself pleasantly involved in crystal energy as part of your daily life. \nIf you are a Licensed Massage Therapist\, 3 CEU’s will be awarded for this class. You will learn how to use Crystal Therapy as a stand alone service or how to integrate crystals into your massage sessions. \nIf you are a Reiki practitioner crystals can be a wonderful addition to your services as well. I will show you ways to integrate crystals into your Reiki sessions. \nFor this class we will be working on yoga mats. Please bring one if you have one. Wear comfortable clothing and bring a notebook to take notes. \nCost of class is $75 and includes crystals and a pendulum. Class size is limited to 6 people. Registration is required prior to class with a non-refundable deposit of $25. Contact me directly or register online at the link below. There is a minimum number of students needed to hold this class\, if that is not met the date will be rescheduled. Payment in full is due on the day of class.
URL:https://integrativehealingartsstudio.org/event/crystal-therapy-beginner-class/
LOCATION:Integrative Healing Arts Studio\, 546 Penn Ave\, West Reading\, 19611\, United States
END:VEVENT
BEGIN:VEVENT
DTSTART;TZID=America/New_York:20160421T190000
DTEND;TZID=America/New_York:20160421T200000
DTSTAMP:20260424T224740
CREATED:20160410T173117Z
LAST-MODIFIED:20160420T154541Z
UID:495-1461265200-1461268800@integrativehealingartsstudio.org
SUMMARY:Full Moon Release Crystal Meditation~Pulling the Weeds
DESCRIPTION:*This class is now full\, thank you for your interest* Join us for a relaxing and healing meditation where we will focus on pulling the weeds that no longer serve us.  This meditation combines crystals\, sound healing music\, and Reiki.  A set of crystals are included in the price of the class. $15. Bring a yoga mat. Class size is limited and registration is required by 4/18.
URL:https://integrativehealingartsstudio.org/event/full-moon-release-crystal-meditationpulling-the-weeds/
LOCATION:Integrative Healing Arts Studio\, 546 Penn Ave\, West Reading\, 19611\, United States
END:VEVENT
BEGIN:VEVENT
DTSTART;TZID=America/New_York:20160418T100000
DTEND;TZID=America/New_York:20160418T140000
DTSTAMP:20260424T224740
CREATED:20160324T122441Z
LAST-MODIFIED:20160412T112559Z
UID:440-1460973600-1460988000@integrativehealingartsstudio.org
SUMMARY:Sinus Pressure Massage CE Class
DESCRIPTION:This is a CEU class for Licensed Massage Therapists~4 CEU’s~ $85~Class time 4 hours. Registration & $25 deposit due by 4/11. Contact me directly to register or click the event website link to register online. There is currently 1 space available in class\, registration has been extended until 4/14 \nCourse Description: Sinus Pressure Massage involves gentle pressure applied to the sinus areas of the face to bring relief from nasal congestion\, facial pain\, and headaches. This course will discuss some of the common causes of sinus problems and conditions and demonstrate different techniques the massage therapist can use to relieve pressure and pain for their clients.\nThis class is a mixture of lecture and hands on training. Students will: \n● Receive knowledge of various causes of sinus pain and pressure \n● Learn the locations of sinus pressure points on the face\, hands and feet \n● Learn how to give a sinus pressure massage to bring relief to the most common sinus complaints utilizing the use of their hands as well as warm and cold stones and the application of essential oils. \nObserve sinus massage techniques as well as give and receive a sinus massage under the guidance of the instructor \n● Learn how to use sinus pressure massage to enhance their current services or add on services\nLearning Objectives & Outcomes \nUpon completion of this course students will demonstrate proficiency in the understanding of the causes of sinus pressure and pain and the techniques that can be used to bring relief to the most common sinus complaints. Students will also learn safety precautions and contraindications involved with sinus conditions and the techniques used.
URL:https://integrativehealingartsstudio.org/event/sinus-pressure-massage-ce-class/
LOCATION:Integrative Healing Arts Studio\, 546 Penn Ave\, West Reading\, 19611\, United States
END:VEVENT
BEGIN:VEVENT
DTSTART;TZID=America/New_York:20160417T093000
DTEND;TZID=America/New_York:20160417T123000
DTSTAMP:20260424T224740
CREATED:20160324T122241Z
LAST-MODIFIED:20160330T212422Z
UID:439-1460885400-1460896200@integrativehealingartsstudio.org
SUMMARY:Chakra Basics Class
DESCRIPTION:Chakra is a Sanskrit word that means wheel and commonly refers to the wheels of energy throughout the body. There are 7 major chakras that are aligned down the spine. The vibrant energy generated by the chakras is a vital life force that keeps our body\, mind\, and spirit in good health. Students will learn the basics of the chakra system including the traits of each chakra and how they are associated with different areas of the physical body\, emotions\, and mental aspects. Students will also learn how to identify chakra imbalances in themselves and others and simple ways to bring the chakra system back into balance. \nThis is a 3 hour class. Class price is $60-Registration and $20 deposit required.  Register at the below link or contact me directly. Anyone can learn\, 3 CEU’s are awarded for Licensed Massage Therapists. \nBring a yoga mat to class with you.
URL:https://integrativehealingartsstudio.org/event/chakra-basics-class/
LOCATION:Integrative Healing Arts Studio\, 546 Penn Ave\, West Reading\, 19611\, United States
END:VEVENT
BEGIN:VEVENT
DTSTART;TZID=America/New_York:20160408T173000
DTEND;TZID=America/New_York:20160408T193000
DTSTAMP:20260424T224740
CREATED:20160324T121535Z
LAST-MODIFIED:20160324T121535Z
UID:436-1460136600-1460143800@integrativehealingartsstudio.org
SUMMARY:2nd Friday Open House
DESCRIPTION:Stop by the studio during West Reading’s 2nd Friday! The perfect time to pick up gift certificates\, items from the Healing Boutique\, and sample one of my featured herbal tea blends. Specials for the evening to be announced soon. As always the beautiful artwork of Jan Gaul will be here.
URL:https://integrativehealingartsstudio.org/event/2nd-friday-open-house/
LOCATION:Integrative Healing Arts Studio\, 546 Penn Ave\, West Reading\, 19611\, United States
END:VEVENT
BEGIN:VEVENT
DTSTART;TZID=America/New_York:20160326T123000
DTEND;TZID=America/New_York:20160326T163000
DTSTAMP:20260424T224740
CREATED:20160320T125049Z
LAST-MODIFIED:20160323T111912Z
UID:387-1458995400-1459009800@integrativehealingartsstudio.org
SUMMARY:Reiki Level I Class
DESCRIPTION:***This is a 2 day class\, you must attend both days~ March 26 12:30-4:30 & April 3rd 9:30-1:30. There are currently 2 spaces left in class\, I will accept registration until 3/25. *** ~ Anyone can learn\, 8 CEU’s for LMT’s~There is a minimum number of students needed to hold a class\, if this is not met the class will be rescheduled to a later date. \nThe gentle art of Reiki draws on universal life energy to benefit people and animals of any age and in any state of health. Reiki offers comfort\, nurture and support for the good health and balance of your mind\, body\, and spirit. \nLevel I (First Degree) In this degree you are connected to the source of healing Reiki energy. This level will help to bring about your own self development and bring harmony and healing into your life. Level I includes an overview of the history of Reiki\, the hand placements and self and group practice. You will also be introduced to and learn about the chakra system. \nThis class is $150. Registration and a non-refundable deposit of $50 is required to hold your space in class. All course materials are included in the price. Registration can be done at the link below\, if you have trouble registering please contact me directly.
URL:https://integrativehealingartsstudio.org/event/reiki-level-i-class/
LOCATION:Integrative Healing Arts Studio\, 546 Penn Ave\, West Reading\, 19611\, United States
END:VEVENT
END:VCALENDAR