BEGIN:VCALENDAR
VERSION:2.0
PRODID:-//Integrative Healing Arts Studio - ECPv6.15.17.1//NONSGML v1.0//EN
CALSCALE:GREGORIAN
METHOD:PUBLISH
X-WR-CALNAME:Integrative Healing Arts Studio
X-ORIGINAL-URL:https://integrativehealingartsstudio.org
X-WR-CALDESC:Events for Integrative Healing Arts Studio
REFRESH-INTERVAL;VALUE=DURATION:PT1H
X-Robots-Tag:noindex
X-PUBLISHED-TTL:PT1H
BEGIN:VTIMEZONE
TZID:America/New_York
BEGIN:DAYLIGHT
TZOFFSETFROM:-0500
TZOFFSETTO:-0400
TZNAME:EDT
DTSTART:20190310T070000
END:DAYLIGHT
BEGIN:STANDARD
TZOFFSETFROM:-0400
TZOFFSETTO:-0500
TZNAME:EST
DTSTART:20191103T060000
END:STANDARD
BEGIN:DAYLIGHT
TZOFFSETFROM:-0500
TZOFFSETTO:-0400
TZNAME:EDT
DTSTART:20200308T070000
END:DAYLIGHT
BEGIN:STANDARD
TZOFFSETFROM:-0400
TZOFFSETTO:-0500
TZNAME:EST
DTSTART:20201101T060000
END:STANDARD
BEGIN:DAYLIGHT
TZOFFSETFROM:-0500
TZOFFSETTO:-0400
TZNAME:EDT
DTSTART:20210314T070000
END:DAYLIGHT
BEGIN:STANDARD
TZOFFSETFROM:-0400
TZOFFSETTO:-0500
TZNAME:EST
DTSTART:20211107T060000
END:STANDARD
BEGIN:DAYLIGHT
TZOFFSETFROM:-0500
TZOFFSETTO:-0400
TZNAME:EDT
DTSTART:20220313T070000
END:DAYLIGHT
BEGIN:STANDARD
TZOFFSETFROM:-0400
TZOFFSETTO:-0500
TZNAME:EST
DTSTART:20221106T060000
END:STANDARD
END:VTIMEZONE
BEGIN:VEVENT
DTSTART;TZID=America/New_York:20210410T123000
DTEND;TZID=America/New_York:20210410T140000
DTSTAMP:20260423T175903
CREATED:20210328T105622Z
LAST-MODIFIED:20210328T105723Z
UID:4743-1618057800-1618063200@integrativehealingartsstudio.org
SUMMARY:April Boutique Hours and Reiki Openings with Amanda
DESCRIPTION:The studio’s boutique will be open from 12:30-2 pm on the following Saturdays in April: \nApril 10th \nApril 17th \nApril 24th \nAmanda has Reiki openings from 12:30-2:30 on those days. Schedule your session online or contact the studio. \n 
URL:https://integrativehealingartsstudio.org/event/april-boutique-hours-and-reiki-openings-with-amanda/
LOCATION:Integrative Healing Arts Studio\, 546 Penn Ave\, West Reading\, 19611\, United States
CATEGORIES:Healing Boutique Open Hours,Reiki Sessions
END:VEVENT
BEGIN:VEVENT
DTSTART;TZID=America/New_York:20201011T103000
DTEND;TZID=America/New_York:20201011T143000
DTSTAMP:20260423T175903
CREATED:20201001T120229Z
LAST-MODIFIED:20201001T120420Z
UID:4512-1602412200-1602426600@integrativehealingartsstudio.org
SUMMARY:Reiki Sessions With Maria
DESCRIPTION:Experience the gentle healing art of Reiki by Maria! She will be here offering 30 minute Reiki sessions for a special introductory rate of only $25. Schedule your session online at the link provided or call the studio at 610-451-9577 to schedule\, time slots are limited! A card on file will be required for booking. Studio cancellation policies apply. \nMaria is a Reiki Master and took her Level I\, II\, and Master/Teacher training here at the studio. Maria became called to Reiki after experiencing a session which helped her heal after the death of her son. She has always felt called to help others and what a perfect way to help others then through Reiki.  Maria is also continuing her studies at Southwest Institute of Healing Arts to become an Integrative Healing Arts Practitioner with a specialty in helping those experiencing grief. \nChristina will also be facilitating a Reiki Level II class from 10am-3pm One space still remains for anyone ready to take their Reiki to the next level! Class price is $250\, contact the studio to register.
URL:https://integrativehealingartsstudio.org/event/reiki-sessions-with-maria/
LOCATION:Integrative Healing Arts Studio\, 546 Penn Ave\, West Reading\, 19611\, United States
CATEGORIES:Reiki Sessions
END:VEVENT
END:VCALENDAR