BEGIN:VCALENDAR
VERSION:2.0
PRODID:-//Integrative Healing Arts Studio - ECPv6.15.17.1//NONSGML v1.0//EN
CALSCALE:GREGORIAN
METHOD:PUBLISH
X-WR-CALNAME:Integrative Healing Arts Studio
X-ORIGINAL-URL:https://integrativehealingartsstudio.org
X-WR-CALDESC:Events for Integrative Healing Arts Studio
REFRESH-INTERVAL;VALUE=DURATION:PT1H
X-Robots-Tag:noindex
X-PUBLISHED-TTL:PT1H
BEGIN:VTIMEZONE
TZID:America/New_York
BEGIN:DAYLIGHT
TZOFFSETFROM:-0500
TZOFFSETTO:-0400
TZNAME:EDT
DTSTART:20150308T070000
END:DAYLIGHT
BEGIN:STANDARD
TZOFFSETFROM:-0400
TZOFFSETTO:-0500
TZNAME:EST
DTSTART:20151101T060000
END:STANDARD
BEGIN:DAYLIGHT
TZOFFSETFROM:-0500
TZOFFSETTO:-0400
TZNAME:EDT
DTSTART:20160313T070000
END:DAYLIGHT
BEGIN:STANDARD
TZOFFSETFROM:-0400
TZOFFSETTO:-0500
TZNAME:EST
DTSTART:20161106T060000
END:STANDARD
BEGIN:DAYLIGHT
TZOFFSETFROM:-0500
TZOFFSETTO:-0400
TZNAME:EDT
DTSTART:20170312T070000
END:DAYLIGHT
BEGIN:STANDARD
TZOFFSETFROM:-0400
TZOFFSETTO:-0500
TZNAME:EST
DTSTART:20171105T060000
END:STANDARD
BEGIN:DAYLIGHT
TZOFFSETFROM:-0500
TZOFFSETTO:-0400
TZNAME:EDT
DTSTART:20180311T070000
END:DAYLIGHT
BEGIN:STANDARD
TZOFFSETFROM:-0400
TZOFFSETTO:-0500
TZNAME:EST
DTSTART:20181104T060000
END:STANDARD
END:VTIMEZONE
BEGIN:VEVENT
DTSTART;TZID=America/New_York:20170613T180000
DTEND;TZID=America/New_York:20170613T210000
DTSTAMP:20260423T213759
CREATED:20170301T025642Z
LAST-MODIFIED:20170518T212304Z
UID:1623-1497376800-1497387600@integrativehealingartsstudio.org
SUMMARY:Reiki Level II
DESCRIPTION:This is a two day class 6/13/17 & 6/20/17 6pm-9pm\, you must attend both days. Sign up with a friend for $24 off\,  Non-refundable deposit of $50 required to register. There are still 2 spaces available\, register by 6/2. \nLevel II (2nd Degree) Okuden~ Inner Teachings~ In this degree there is an expanded opening of the energy channels. The student will be taught the Reiki symbols which will allow them to connect to the universal energy in a deeper way. The student will also be taught how to send the healing energy of Reiki over a distance\, as well as to other points in time.  Other advanced techniques are shared that can facilitate deep emotional healing\, which is often the true cause of dis-ease. In this level you will also learn what it is to become a Reiki practitioner and other business related information. \nRegistration and non-refundable $50 deposit due. (non-refundable but can be applied to another class within 1 year) 6 CEU’s for LMT’s.  If you attended my level I class and have the William Lee Rand Reiki Level I & II manual given please bring to class otherwise one will be included if not previously given. If you did not attend my Level I class you must provide me with a copy of your Level I training certificate before registration.  Call 610-451-9577 to register or register online.
URL:https://integrativehealingartsstudio.org/event/reiki-level-ii-5/
LOCATION:Integrative Healing Arts Studio\, 546 Penn Ave\, West Reading\, 19611\, United States
CATEGORIES:Classes,Reiki Classes
END:VEVENT
BEGIN:VEVENT
DTSTART;TZID=America/New_York:20170328T180000
DTEND;TZID=America/New_York:20170328T210000
DTSTAMP:20260423T213759
CREATED:20170129T141622Z
LAST-MODIFIED:20170324T180216Z
UID:1554-1490724000-1490734800@integrativehealingartsstudio.org
SUMMARY:Reiki Level I Class
DESCRIPTION:This is a 2 day class\,  3/28/17 & 3/29/17 6pm-9pm you must attend both days. Sign up with a friend for $24 off each!  Registration and $42 deposit due (It’s not too late to join) \nLevel I (First Degree) The gentle art of Reiki draws on universal life energy to benefit people of any age and in any state of health. Whether at home\, clinic or hospital\, Reiki adapts easily to any situation. Reiki offers comfort\, nurture and support for the good health and balance of your mind\, body and emotions. \nIn this degree you are connected to the source of healing Reiki energy which has the ability to gently and powerfully promote balance among all the body’s systems and the regenerative processes of body and mind. \nThis level will help to bring about your own self development and bring harmony and healing into your life. Level I includes an overview of the history of Reiki\, the hand placements\, meditation\, and self and group practice. You will also be introduced to and learn about the chakra system. Included in class is the William Lee Rand First & Second Degree Manual ($20 value). \nRegistration and non-refundable $42 deposit required. Call 610-451-9577 or click on link below to register.
URL:https://integrativehealingartsstudio.org/event/reiki-level-i-class-9/
LOCATION:Integrative Healing Arts Studio\, 546 Penn Ave\, West Reading\, 19611\, United States
CATEGORIES:Classes,Reiki Classes
END:VEVENT
BEGIN:VEVENT
DTSTART;TZID=America/New_York:20170314T180000
DTEND;TZID=America/New_York:20170314T210000
DTSTAMP:20260423T213759
CREATED:20161120T190805Z
LAST-MODIFIED:20170129T141010Z
UID:1084-1489514400-1489525200@integrativehealingartsstudio.org
SUMMARY:Reiki Level II
DESCRIPTION:This is a two day class 3/14/17 & 3/15/17 6pm-9pm\, you must attend both days. Sign up with a friend for $24 off\,  Non-refundable deposit of $50 required to register. Registration closes 3/3/17. \nLevel II (2nd Degree) Okuden~ Inner Teachings~ In this degree there is an expanded opening of the energy channels. The student will be taught the Reiki symbols which will allow them to connect to the universal energy in a deeper way. The student will also be taught how to send the healing energy of Reiki over a distance\, as well as to other points in time.  Other advanced techniques are shared that can facilitate deep emotional healing\, which is often the true cause of dis-ease. In this level you will also learn what it is to become a Reiki practitioner and other business related information. \nRegistration and non-refundable $50 deposit due.  6 CEU’s for LMT’s. (See continuing education page for important CE info for Pa. LMT’s) If you attended my level I class and have the William Lee Rand Reiki Level I & II manual given please bring to class otherwise one will be included if not previously given. If you did not attend my Level I class you must provide me with a copy of your Level I training certificate before registration. I do not accept certificates from online/distance courses they must have been taken in person with a Reiki Master.  Call 610-451-9577 to register.
URL:https://integrativehealingartsstudio.org/event/reiki-level-ii-4/
LOCATION:Integrative Healing Arts Studio\, 546 Penn Ave\, West Reading\, 19611\, United States
CATEGORIES:Classes,Reiki Classes
END:VEVENT
BEGIN:VEVENT
DTSTART;TZID=America/New_York:20170222T173000
DTEND;TZID=America/New_York:20170222T203000
DTSTAMP:20260423T213759
CREATED:20170122T231837Z
LAST-MODIFIED:20170219T222157Z
UID:1501-1487784600-1487795400@integrativehealingartsstudio.org
SUMMARY:Reiki Level I Class
DESCRIPTION:This is a 2 day class\,  2/22 & 2/23 5:30pm-8:30pm you must attend both days. Sign up with a friend for $24 each.  Registration and $42 deposit required. \nLevel I (First Degree) The gentle art of Reiki draws on universal life energy to benefit people of any age and in any state of health. Whether at home\, clinic or hospital\, Reiki adapts easily to any situation. Reiki offers comfort\, nurture and support for the good health and balance of your mind\, body and emotions. \nIn this degree you are connected to the source of healing Reiki energy which has the ability to gently and powerfully promote balance among all the body’s systems and the regenerative processes of body and mind. \nThis level will help to bring about your own self development and bring harmony and healing into your life. Level I includes an overview of the history of Reiki\, the hand placements\, meditation\, and self and group practice. You will also be introduced to and learn about the chakra system. Included in class is the William Lee Rand First & Second Degree Manual ($20 value). \nRegistration and non-refundable $42 deposit required. Call 610-451-9577 to register.
URL:https://integrativehealingartsstudio.org/event/reiki-level-i-class-8/
LOCATION:Integrative Healing Arts Studio\, 546 Penn Ave\, West Reading\, 19611\, United States
CATEGORIES:Classes,Reiki Classes
ATTACH;FMTTYPE=image/jpeg:https://integrativehealingartsstudio.org/wp-content/uploads/2016/11/ntm-gift-059-reiki-drop-680x313-1.jpg
END:VEVENT
BEGIN:VEVENT
DTSTART;TZID=America/New_York:20170128T093000
DTEND;TZID=America/New_York:20170128T123000
DTSTAMP:20260423T213759
CREATED:20161014T120920Z
LAST-MODIFIED:20170103T021336Z
UID:975-1485595800-1485606600@integrativehealingartsstudio.org
SUMMARY:Reiki Level I Class
DESCRIPTION:This is a 2 day class\,  1/28/17 & 1/29/17 9:30-12:30 you must attend both days. Sign up with a friend for $24 off each!  Registration and $42 deposit due by 1/21/17. \nLevel I (First Degree) The gentle art of Reiki draws on universal life energy to benefit people of any age and in any state of health. Whether at home\, clinic or hospital\, Reiki adapts easily to any situation. Reiki offers comfort\, nurture and support for the good health and balance of your mind\, body and emotions. \nIn this degree you are connected to the source of healing Reiki energy which has the ability to gently and powerfully promote balance among all the body’s systems and the regenerative processes of body and mind. \nThis level will help to bring about your own self development and bring harmony and healing into your life. Level I includes an overview of the history of Reiki\, the hand placements\, meditation\, and self and group practice. You will also be introduced to and learn about the chakra system. Included in class is the William Lee Rand First & Second Degree Manual ($20 value). \nRegistration and non-refundable $42 deposit required. Call 610-451-9577 to register or click on scheduling button on webpage and select Reiki Level I class from the menu. Anyone can learn\, 6 CEU’s for LMT’s.
URL:https://integrativehealingartsstudio.org/event/reiki-level-i-class-7/
LOCATION:Integrative Healing Arts Studio\, 546 Penn Ave\, West Reading\, 19611\, United States
CATEGORIES:Reiki Classes
END:VEVENT
BEGIN:VEVENT
DTSTART;TZID=America/New_York:20161120T213000
DTEND;TZID=America/New_York:20161120T213000
DTSTAMP:20260423T213759
CREATED:20160927T210739Z
LAST-MODIFIED:20161116T114222Z
UID:895-1479677400-1479677400@integrativehealingartsstudio.org
SUMMARY:Reiki Level II
DESCRIPTION:This is a two day class 11/20 & 11/27 9:30am-12:30pm\, you must attend both days. Sign up with a friend for $30 off\,  Non-refundable deposit of $50 required to register.  There are still openings in this class\, register by 11/18. \nLevel II (2nd Degree) Okuden~ Inner Teachings~ In this degree there is an expanded opening of the energy channels. The student will be taught the Reiki symbols which will allow them to connect to the universal energy in a deeper way. The student will also be taught how to send the healing energy of Reiki over a distance\, as well as to other points in time.  Other advanced techniques are shared that can facilitate deep emotional healing\, which is often the true cause of dis-ease. In this level you will also learn what it is to become a Reiki practitioner and other business related information. \nRegistration and non-refundable $50 deposit due.  6 CEU’s for LMT’s. If you attended my level I class and have the William Lee Rand Reiki Level I & II manual given please bring to class otherwise one will be included if not previously given. If you did not attend my Level I class you must provide me with a copy of your Level I training certificate before registration. I do not accept certificates from online/distance courses they must have been taken in person with a Reiki Master.  Call 610-451-9577 to register or click on the schedule now link on my webpage.
URL:https://integrativehealingartsstudio.org/event/reiki-level-ii-3/
LOCATION:Integrative Healing Arts Studio\, 546 Penn Ave\, West Reading\, 19611\, United States
CATEGORIES:Reiki Classes
END:VEVENT
BEGIN:VEVENT
DTSTART;TZID=America/New_York:20161023T090000
DTEND;TZID=America/New_York:20161023T150000
DTSTAMP:20260423T213759
CREATED:20160908T112418Z
LAST-MODIFIED:20161013T105926Z
UID:858-1477213200-1477234800@integrativehealingartsstudio.org
SUMMARY:Reiki Level II
DESCRIPTION:Sign up with a friend for $30 off! Register by 10/14 \nLevel II (2nd Degree) Okuden~ Inner Teachings~ In this degree there is an expanded opening of the energy channels. The student will be taught the Reiki symbols which will allow them to connect to the universal energy in a deeper way. The student will also be taught how to send the healing energy of Reiki over a distance\, as well as to other points in time.  Other advanced techniques are shared that can facilitate deep emotional healing\, which is often the true cause of dis-ease. In this level you will also learn what it is to become a Reiki practitioner and other business related information. \nRegistration and non-refundable $50 deposit due.  6 CEU’s for LMT’s. If you attended my level I class and have the William Lee Rand Reiki Level I & II manual given please bring to class otherwise one will be included if not previously given. If you did not attend my Level I class you must provide me with a copy of your Level I training certificate before registration. I do not accept certificates from online/distance courses they must have been taken in person with a Reiki Master.  Call 610-451-9577 to register or click on the link below.
URL:https://integrativehealingartsstudio.org/event/reiki-level-ii-2/
LOCATION:Integrative Healing Arts Studio\, 546 Penn Ave\, West Reading\, 19611\, United States
CATEGORIES:Reiki Classes
END:VEVENT
BEGIN:VEVENT
DTSTART;TZID=America/New_York:20161012T180000
DTEND;TZID=America/New_York:20161012T210000
DTSTAMP:20260423T213759
CREATED:20160908T111418Z
LAST-MODIFIED:20161009T114811Z
UID:856-1476295200-1476306000@integrativehealingartsstudio.org
SUMMARY:Reiki Level I Class
DESCRIPTION:This is a two day class\, 10/12 & 10/19\, 6:00-9:00\, you must attend both days. Sign up with a friend for $30 off each! \nLevel I (First Degree) The gentle art of Reiki draws on universal life energy to benefit people of any age and in any state of health. Whether at home\, clinic or hospital\, Reiki adapts easily to any situation. Reiki offers comfort\, nurture and support for the good health and balance of your mind\, body and emotions. \nIn this degree you are connected to the source of healing Reiki energy which has the ability to gently and powerfully promote balance among all the body’s systems and the regenerative processes of body and mind. \nThis level will help to bring about your own self development and bring harmony and healing into your life. Level I includes an overview of the history of Reiki\, the hand placements\, meditation\, and self and group practice. You will also be introduced to and learn about the chakra system.Included in class is the Reiki Level I & II manual ($20 value) \nRegistration and $50 deposit required.  Call 610-451-9577 to register or click the schedule now button and select Reiki Level I class from the service menu.  Anyone can learn\, 6 CEU’s for LMT’s.
URL:https://integrativehealingartsstudio.org/event/reiki-level-i-class-6/
LOCATION:Integrative Healing Arts Studio\, 546 Penn Ave\, West Reading\, 19611\, United States
CATEGORIES:Reiki Classes
END:VEVENT
BEGIN:VEVENT
DTSTART;TZID=America/New_York:20160925T090000
DTEND;TZID=America/New_York:20160925T150000
DTSTAMP:20260423T213759
CREATED:20160730T183602Z
LAST-MODIFIED:20160916T104644Z
UID:796-1474794000-1474815600@integrativehealingartsstudio.org
SUMMARY:Reiki Level II
DESCRIPTION:Spaces available \nLevel II (2nd Degree) In this degree there is an expanded opening of the energy channels. The student will receive the Reiki symbols which will allow them to connect to the universal energy in a deeper way and one is taught how to send the healing energy of Reiki over a distance\, as well as to other points in time.  Other advanced techniques are taught that can facilitate deep emotional healing\, which is often the true cause of dis-ease. In this level you will also learn what it is to become a Reiki practitioner and business related information. \nRegistration and non-refundable $50 deposit due by 9/22. 6 CEU’s for LMT’s. If you attended my level I class and have the William Lee Rand Reiki Level I & II manual given please bring to class otherwise one will be included if not previously given. If you did not attend my Level I class you must provide me with a copy of your Level I training certificate before registration. Call 610-451-9577 to register or click on the link below.
URL:https://integrativehealingartsstudio.org/event/reiki-level-ii/
LOCATION:Integrative Healing Arts Studio\, 546 Penn Ave\, West Reading\, 19611\, United States
CATEGORIES:Reiki Classes
END:VEVENT
BEGIN:VEVENT
DTSTART;TZID=America/New_York:20160906T090000
DTEND;TZID=America/New_York:20160906T150000
DTSTAMP:20260423T213759
CREATED:20160810T022128Z
LAST-MODIFIED:20160901T024938Z
UID:801-1473152400-1473174000@integrativehealingartsstudio.org
SUMMARY:Reiki Level I Class
DESCRIPTION:Sign up with a friend for $25 off each! \nLevel I (First Degree) The gentle art of Reiki draws on universal life energy to benefit people of any age and in any state of health. Whether at home\, clinic or hospital\, Reiki adapts easily to any situation. Reiki offers comfort\, nurture and support for the good health and balance of your mind\, body and emotions. \nIn this degree you are connected to the source of healing Reiki energy which has the ability to gently and powerfully promote balance among all the body’s systems and the regenerative processes of body and mind. \nThis level will help to bring about your own self development and bring harmony and healing into your life. Level I includes an overview of the history of Reiki\, the hand placements\, meditation\, and self and group practice. You will also be introduced to and learn about the chakra system. Included in class is the William Lee Rand First & Second Degree Manual ($20 value). \nRegistration and $50 deposit required. Call 610-451-9577 to register or click on link below. Anyone can learn\, 6 CEU’s for LMT’s.
URL:https://integrativehealingartsstudio.org/event/reiki-level-i-class-5/
LOCATION:Integrative Healing Arts Studio\, 546 Penn Ave\, West Reading\, 19611\, United States
CATEGORIES:Reiki Classes
END:VEVENT
BEGIN:VEVENT
DTSTART;TZID=America/New_York:20160828T093000
DTEND;TZID=America/New_York:20160828T153000
DTSTAMP:20260423T213759
CREATED:20160730T182222Z
LAST-MODIFIED:20160824T112417Z
UID:794-1472376600-1472398200@integrativehealingartsstudio.org
SUMMARY:Reiki Level I Class
DESCRIPTION:Spaces still available in this class\, sign up with a friend for $25 off each! \nLevel I (First Degree) The gentle art of Reiki draws on universal life energy to benefit people of any age and in any state of health. Whether at home\, clinic or hospital\, Reiki adapts easily to any situation. Reiki offers comfort\, nurture and support for the good health and balance of your mind\, body and emotions. \nIn this degree you are connected to the source of healing Reiki energy which has the ability to gently and powerfully promote balance among all the body’s systems and the regenerative processes of body and mind. \nThis level will help to bring about your own self development and bring harmony and healing into your life. Level I includes an overview of the history of Reiki\, the hand placements\, meditation\, and self and group practice. You will also be introduced to and learn about the chakra system.Included in class is the Reiki Level I & II manual ($20 value) \nRegistration and $50 deposit required by.  Call 610-451-9577 to register or click on link below. Anyone can learn\, 6 CEU’s for LMT’s.
URL:https://integrativehealingartsstudio.org/event/reiki-level-i-class-4/
LOCATION:Integrative Healing Arts Studio\, 546 Penn Ave\, West Reading\, 19611\, United States
CATEGORIES:Reiki Classes
END:VEVENT
BEGIN:VEVENT
DTSTART;TZID=America/New_York:20160730T093000
DTEND;TZID=America/New_York:20160730T133000
DTSTAMP:20260423T213759
CREATED:20160629T114042Z
LAST-MODIFIED:20160730T130008Z
UID:686-1469871000-1469885400@integrativehealingartsstudio.org
SUMMARY:Reiki Level I Class
DESCRIPTION:\, This is a 2 day class\, 7/30 & 7/31 9:30-1:30\, you must attend both days. Sign up with a friend for $25 off each! \nLevel I (First Degree) The gentle art of Reiki draws on universal life energy to benefit people of any age and in any state of health. Whether at home\, clinic or hospital\, Reiki adapts easily to any situation. Reiki offers comfort\, nurture and support for the good health and balance of your mind\, body and emotions. \nIn this degree you are connected to the source of healing Reiki energy which has the ability to gently and powerfully promote balance among all the body’s systems and the regenerative processes of body and mind. \nThis level will help to bring about your own self development and bring harmony and healing into your life. Level I includes an overview of the history of Reiki\, the hand placements and self and group practice. You will also be introduced to and learn about the chakra system. \nRegistration and $50 deposit required.  Call 610-451-9577 to register. Anyone can learn\, 8 CEU’s for LMT’s.  There is a minimum amount of students needed to hold the class or date will be rescheduled. \n*A note for LMT’s:  in the 2019 renewal year the State of Pa will no longer accept continuing education from courses that are excluded from requiring licensure like Reiki\, Reflexology\, etc. per Section 13 of the Pa State Massage Therapy Law.\nAny continuing education taken in these subjects for the 2017 renewal will be accepted so if you are considering learning Reiki or other modalities that are excluded for CEU’s\, this is the year to do it! If you are coming from another state for continuing education please verify with your state to make sure you can get credits in these subjects. I will continue to offer CEU’s in these courses for those states that accept them.
URL:https://integrativehealingartsstudio.org/event/reiki-level-i-class-3/
LOCATION:Integrative Healing Arts Studio\, 546 Penn Ave\, West Reading\, 19611\, United States
CATEGORIES:Reiki Classes
END:VEVENT
END:VCALENDAR