BEGIN:VCALENDAR
VERSION:2.0
PRODID:-//Integrative Healing Arts Studio - ECPv6.15.17.1//NONSGML v1.0//EN
CALSCALE:GREGORIAN
METHOD:PUBLISH
X-ORIGINAL-URL:https://integrativehealingartsstudio.org
X-WR-CALDESC:Events for Integrative Healing Arts Studio
REFRESH-INTERVAL;VALUE=DURATION:PT1H
X-Robots-Tag:noindex
X-PUBLISHED-TTL:PT1H
BEGIN:VTIMEZONE
TZID:America/New_York
BEGIN:DAYLIGHT
TZOFFSETFROM:-0500
TZOFFSETTO:-0400
TZNAME:EDT
DTSTART:20150308T070000
END:DAYLIGHT
BEGIN:STANDARD
TZOFFSETFROM:-0400
TZOFFSETTO:-0500
TZNAME:EST
DTSTART:20151101T060000
END:STANDARD
BEGIN:DAYLIGHT
TZOFFSETFROM:-0500
TZOFFSETTO:-0400
TZNAME:EDT
DTSTART:20160313T070000
END:DAYLIGHT
BEGIN:STANDARD
TZOFFSETFROM:-0400
TZOFFSETTO:-0500
TZNAME:EST
DTSTART:20161106T060000
END:STANDARD
BEGIN:DAYLIGHT
TZOFFSETFROM:-0500
TZOFFSETTO:-0400
TZNAME:EDT
DTSTART:20170312T070000
END:DAYLIGHT
BEGIN:STANDARD
TZOFFSETFROM:-0400
TZOFFSETTO:-0500
TZNAME:EST
DTSTART:20171105T060000
END:STANDARD
BEGIN:DAYLIGHT
TZOFFSETFROM:-0500
TZOFFSETTO:-0400
TZNAME:EDT
DTSTART:20180311T070000
END:DAYLIGHT
BEGIN:STANDARD
TZOFFSETFROM:-0400
TZOFFSETTO:-0500
TZNAME:EST
DTSTART:20181104T060000
END:STANDARD
END:VTIMEZONE
BEGIN:VEVENT
DTSTART;TZID=America/New_York:20170908T173000
DTEND;TZID=America/New_York:20170908T193000
DTSTAMP:20260423T175226
CREATED:20170830T110213Z
LAST-MODIFIED:20170904T115852Z
UID:2049-1504891800-1504899000@integrativehealingartsstudio.org
SUMMARY:2nd Friday Open Hours~West Reading Give Back Night~Hurricane Donations
DESCRIPTION:The studio will be open from 5:30-7:30 for West Reading’s 2nd Friday.  West Reading is giving back this 2nd Friday and many of the businesses are raising money for the people affected by Hurricane Harvey. Stop in here at the studio and make a $10 donation to the American Red Cross and get a coupon for $10 off a service here at the studio! \nHope to see you!
URL:https://integrativehealingartsstudio.org/event/2nd-friday-open-hours-2/
LOCATION:Integrative Healing Arts Studio\, 546 Penn Ave\, West Reading\, 19611\, United States
CATEGORIES:2nd Friday Open House,Healing Boutique Open Hours,Open House
ATTACH;FMTTYPE=image/jpeg:https://integrativehealingartsstudio.org/wp-content/uploads/2015/10/3229EC85-F774-4195-B4F8-7B3CF3CE90A5.jpg
END:VEVENT
BEGIN:VEVENT
DTSTART;TZID=America/New_York:20170617T110000
DTEND;TZID=America/New_York:20170617T160000
DTSTAMP:20260423T175226
CREATED:20170523T114704Z
LAST-MODIFIED:20170614T204559Z
UID:1825-1497697200-1497715200@integrativehealingartsstudio.org
SUMMARY:Art on the Avenue Open House
DESCRIPTION:Join us on Saturday June 17th from 11-4 for our annual Art on the Avenue open house.  Stop in for special deals and enchanting items from the healing boutique. \nAll aromatherapy diffuser bracelets will be 15% off \nBooking and gift certificate specials for those that stop in \nHope to see you!
URL:https://integrativehealingartsstudio.org/event/art-on-the-avenue-open-house-2/
LOCATION:Integrative Healing Arts Studio\, 546 Penn Ave\, West Reading\, 19611\, United States
CATEGORIES:Healing Boutique Open Hours,Open House
ATTACH;FMTTYPE=image/jpeg:https://integrativehealingartsstudio.org/wp-content/uploads/2016/09/IMG_2685.jpg
END:VEVENT
BEGIN:VEVENT
DTSTART;TZID=America/New_York:20170414T173000
DTEND;TZID=America/New_York:20170414T193000
DTSTAMP:20260423T175226
CREATED:20170311T134106Z
LAST-MODIFIED:20170415T003322Z
UID:1638-1492191000-1492198200@integrativehealingartsstudio.org
SUMMARY:2nd Friday Open House Celebrating 5 Years in Service
DESCRIPTION:Stop in during West Reading’s 2nd Friday and celebrate my 5 year in service anniversary! Client appreciation specials for the evening will include 10% off items in the healing boutique(some exclusions apply) \nHope to see you!
URL:https://integrativehealingartsstudio.org/event/2nd-friday-open-house-celebrating-5-years-in-service/
LOCATION:Integrative Healing Arts Studio\, 546 Penn Ave\, West Reading\, 19611\, United States
CATEGORIES:2nd Friday Open House,Healing Boutique Open Hours,Open House
END:VEVENT
BEGIN:VEVENT
DTSTART;TZID=America/New_York:20170108T110000
DTEND;TZID=America/New_York:20170108T130000
DTSTAMP:20260423T175226
CREATED:20170103T022742Z
LAST-MODIFIED:20170107T232149Z
UID:1351-1483873200-1483880400@integrativehealingartsstudio.org
SUMMARY:Open Hours
DESCRIPTION:The studio will have open hours on Sunday January 8th from 11:00am-1:00pm to shop for herbals and enchantments. Offering a free 5ml bottle of lavender essential oil with any electric diffuser purchase today (while supplies last).
URL:https://integrativehealingartsstudio.org/event/open-hours/
LOCATION:Integrative Healing Arts Studio\, 546 Penn Ave\, West Reading\, 19611\, United States
CATEGORIES:Open House
ATTACH;FMTTYPE=image/jpeg:https://integrativehealingartsstudio.org/wp-content/uploads/2017/01/15589665_1282613631802788_2505428511954011099_n.jpg
END:VEVENT
BEGIN:VEVENT
DTSTART;TZID=America/New_York:20161126T120000
DTEND;TZID=America/New_York:20161126T150000
DTSTAMP:20260423T175226
CREATED:20160929T004351Z
LAST-MODIFIED:20161126T123847Z
UID:915-1480161600-1480172400@integrativehealingartsstudio.org
SUMMARY:Small Business Saturday Open House
DESCRIPTION:Support small business and shop West Reading’s charming shoppes!  The studio will be open from 12:00 pm-3:00 pm to shop the healing boutique and take advantage of special offers on classes and services only for those that stop in!  Gift certificates will be 20% off and this is the only day they will be offered at that low price so make sure to stop by*! Essential oil diffusers will also be 10% off. \n  \n*Gift certificates may be used on services and classes with Christina Rossi only. \n 
URL:https://integrativehealingartsstudio.org/event/small-business-saturday-open-house/
LOCATION:Integrative Healing Arts Studio\, 546 Penn Ave\, West Reading\, 19611\, United States
CATEGORIES:Open House
ATTACH;FMTTYPE=image/jpeg:https://integrativehealingartsstudio.org/wp-content/uploads/2016/09/IMG_2685.jpg
END:VEVENT
END:VCALENDAR