BEGIN:VCALENDAR
VERSION:2.0
PRODID:-//Integrative Healing Arts Studio - ECPv6.15.17.1//NONSGML v1.0//EN
CALSCALE:GREGORIAN
METHOD:PUBLISH
X-WR-CALNAME:Integrative Healing Arts Studio
X-ORIGINAL-URL:https://integrativehealingartsstudio.org
X-WR-CALDESC:Events for Integrative Healing Arts Studio
REFRESH-INTERVAL;VALUE=DURATION:PT1H
X-Robots-Tag:noindex
X-PUBLISHED-TTL:PT1H
BEGIN:VTIMEZONE
TZID:America/New_York
BEGIN:DAYLIGHT
TZOFFSETFROM:-0500
TZOFFSETTO:-0400
TZNAME:EDT
DTSTART:20160313T070000
END:DAYLIGHT
BEGIN:STANDARD
TZOFFSETFROM:-0400
TZOFFSETTO:-0500
TZNAME:EST
DTSTART:20161106T060000
END:STANDARD
BEGIN:DAYLIGHT
TZOFFSETFROM:-0500
TZOFFSETTO:-0400
TZNAME:EDT
DTSTART:20170312T070000
END:DAYLIGHT
BEGIN:STANDARD
TZOFFSETFROM:-0400
TZOFFSETTO:-0500
TZNAME:EST
DTSTART:20171105T060000
END:STANDARD
BEGIN:DAYLIGHT
TZOFFSETFROM:-0500
TZOFFSETTO:-0400
TZNAME:EDT
DTSTART:20180311T070000
END:DAYLIGHT
BEGIN:STANDARD
TZOFFSETFROM:-0400
TZOFFSETTO:-0500
TZNAME:EST
DTSTART:20181104T060000
END:STANDARD
BEGIN:DAYLIGHT
TZOFFSETFROM:-0500
TZOFFSETTO:-0400
TZNAME:EDT
DTSTART:20190310T070000
END:DAYLIGHT
BEGIN:STANDARD
TZOFFSETFROM:-0400
TZOFFSETTO:-0500
TZNAME:EST
DTSTART:20191103T060000
END:STANDARD
BEGIN:DAYLIGHT
TZOFFSETFROM:-0500
TZOFFSETTO:-0400
TZNAME:EDT
DTSTART:20200308T070000
END:DAYLIGHT
BEGIN:STANDARD
TZOFFSETFROM:-0400
TZOFFSETTO:-0500
TZNAME:EST
DTSTART:20201101T060000
END:STANDARD
BEGIN:DAYLIGHT
TZOFFSETFROM:-0500
TZOFFSETTO:-0400
TZNAME:EDT
DTSTART:20210314T070000
END:DAYLIGHT
BEGIN:STANDARD
TZOFFSETFROM:-0400
TZOFFSETTO:-0500
TZNAME:EST
DTSTART:20211107T060000
END:STANDARD
BEGIN:DAYLIGHT
TZOFFSETFROM:-0500
TZOFFSETTO:-0400
TZNAME:EDT
DTSTART:20220313T070000
END:DAYLIGHT
BEGIN:STANDARD
TZOFFSETFROM:-0400
TZOFFSETTO:-0500
TZNAME:EST
DTSTART:20221106T060000
END:STANDARD
BEGIN:DAYLIGHT
TZOFFSETFROM:-0500
TZOFFSETTO:-0400
TZNAME:EDT
DTSTART:20230312T070000
END:DAYLIGHT
BEGIN:STANDARD
TZOFFSETFROM:-0400
TZOFFSETTO:-0500
TZNAME:EST
DTSTART:20231105T060000
END:STANDARD
BEGIN:DAYLIGHT
TZOFFSETFROM:-0500
TZOFFSETTO:-0400
TZNAME:EDT
DTSTART:20240310T070000
END:DAYLIGHT
BEGIN:STANDARD
TZOFFSETFROM:-0400
TZOFFSETTO:-0500
TZNAME:EST
DTSTART:20241103T060000
END:STANDARD
END:VTIMEZONE
BEGIN:VEVENT
DTSTART;TZID=America/New_York:20230527T143000
DTEND;TZID=America/New_York:20230527T163000
DTSTAMP:20260423T180548
CREATED:20230426T225252Z
LAST-MODIFIED:20230602T125725Z
UID:6106-1685197800-1685205000@integrativehealingartsstudio.org
SUMMARY:Integrative Reiki Clinic
DESCRIPTION:Join us for our monthly Integrative Reiki Clinic to save on some much needed self-care time. $25 for a 25 minute session\, Registration required. \nSessions are semi-private\, held in our meditation room.  Offering the sessions are practitioners and students that are Reiki Level II or above that have been trained here at the studio.  Registration online is required to secure your time slot and can be found in the events section of the online booking site\, use the link in this event to get there. \nA card on file will be required to hold your spot but it will not be charged at the time of booking. Please don’t be a no-show. Time slots are limited and there is a usually a waitlist. If you can’t make the time you booked call to let us know so someone else can take the spot.  You can pay at the time of service using the card on file or another way.  No other discounts or offers can be used or combined with the discounted rates. \nParking is free street parking (3 hr limit) or in the paid shopping center lot across the street $1 per hour\, use the Parkmobile app or kiosks along Penn Ave to pay. These sessions are being held in the meditation room\, enter at the glass boutique door\, ground level around back of building.
URL:https://integrativehealingartsstudio.org/event/integrative-reiki-clinic-5/
LOCATION:Integrative Healing Arts Studio\, 546 Penn Ave\, West Reading\, 19611\, United States
CATEGORIES:Integrative Reiki Clinic
END:VEVENT
BEGIN:VEVENT
DTSTART;TZID=America/New_York:20230415T143000
DTEND;TZID=America/New_York:20230415T163000
DTSTAMP:20260423T180548
CREATED:20230328T232137Z
LAST-MODIFIED:20230328T232137Z
UID:6075-1681569000-1681576200@integrativehealingartsstudio.org
SUMMARY:Integrative Reiki Clinic
DESCRIPTION:Join us for our monthly Integrative Reiki Clinic to save on some much needed self-care time. Session time slots are 30 minutes which consist of 25 minutes of Reiki. \nSessions are held in a clinic type setting in our meditation room where there may be multiple tables\, clients\, and practitioners together in a healing environment. Offering the sessions are practitioners and students that are Reiki Level II or above that have been trained here at the studio.  Registration online is required to secure your time slot and can be found in the events section of the online booking site\, use link in this event. \nA card on file will be required to hold your spot but it will not be charged at the time of booking. Please don’t be a no-show. Time slots are limited and there is a usually a waitlist. If you can’t make the time you booked call to let us know so someone else can take the spot.  You can pay at the time of service using the card on file or another way.  No other discounts or offers can be used or combined with the discounted rates. \nParking is free street parking (3 hr limit) or in the paid shopping center lot across the street $1 per hour\, use the Parkmobile app or kiosks along Penn Ave to pay. These sessions are being held in the meditation room\, enter at the glass boutique door\, ground level around back of building.
URL:https://integrativehealingartsstudio.org/event/integrative-reiki-clinic-4/
LOCATION:Integrative Healing Arts Studio\, 546 Penn Ave\, West Reading\, 19611\, United States
CATEGORIES:Integrative Reiki Clinic,Reiki Sessions
END:VEVENT
BEGIN:VEVENT
DTSTART;TZID=America/New_York:20230325T143000
DTEND;TZID=America/New_York:20230325T163000
DTSTAMP:20260423T180548
CREATED:20230302T021609Z
LAST-MODIFIED:20230308T022459Z
UID:6009-1679754600-1679761800@integrativehealingartsstudio.org
SUMMARY:Integrative Reiki Clinic
DESCRIPTION:Join us for our monthly Integrative Reiki Clinic to save on some much needed self-care time. \nSessions are held in a clinic type setting in our meditation room with multiple tables\, clients\, and practitioners together in a healing environment. Offering the sessions are practitioners and students that are Reiki Level II or above that have been trained here at the studio.  Registration online is required to secure your time slot and can be found in the events section of the online booking site\, use link in this event. \nA card on file will be required to hold your spot but it will not be charged at the time of booking. You can pay at the time of service using the card on file or another way.  No other discounts or offers can be used or combined with the discounted rates. \nParking is free street parking (3 hr limit) or in the paid shopping center lot across the street $1 per hour\, use the Parkmobile app or kiosks along Penn Ave to pay. These sessions are being held in the meditation room\, enter at the glass boutique door\, ground level around back of building.
URL:https://integrativehealingartsstudio.org/event/integrative-reiki-clinic-3/
LOCATION:Integrative Healing Arts Studio\, 546 Penn Ave\, West Reading\, 19611\, United States
CATEGORIES:Integrative Reiki Clinic,Reiki Sessions
END:VEVENT
BEGIN:VEVENT
DTSTART;TZID=America/New_York:20170618T093000
DTEND;TZID=America/New_York:20170618T110000
DTSTAMP:20260423T180548
CREATED:20170603T111110Z
LAST-MODIFIED:20170612T104821Z
UID:1845-1497778200-1497783600@integrativehealingartsstudio.org
SUMMARY:Integrative Reiki Clinic
DESCRIPTION:June’s Integrative Reiki Clinic will be held on June 18th\, with two time slots to choose from.  This is a clinic setting with multiple people in a room together in a healing environment. Sessions are conducted on the floor on yoga mats which are provided. Sound healing\, crystal therapy\, flower therapy\, and aromatherapy may also be used during the Reiki session which includes the application of hands on and distance Reiki throughout the session. The crystals that are used during the Reiki session are chosen based on your individual needs and may be different for each person. There are two time slots to choose from for the sessions 9:30-10:00 and 10:30-11:00. Enrollment is required for each time slot. You can enroll online or by contacting me directly. Fee for the clinic is $15 for 30 minutes\, no other discounts or offers can be used or combined with this fee. Non-refundable if cancelled without 24 hour notice before session. **The 9:30 time slot is full\, there are currently 3 spaces left in the 10:30 time slot** Register by June 16th. 
URL:https://integrativehealingartsstudio.org/event/integrative-reiki-clinic-2/
LOCATION:Integrative Healing Arts Studio\, 546 Penn Ave\, West Reading\, 19611\, United States
CATEGORIES:Integrative Reiki Clinic
END:VEVENT
END:VCALENDAR