BEGIN:VCALENDAR
VERSION:2.0
PRODID:-//Integrative Healing Arts Studio - ECPv6.15.17.1//NONSGML v1.0//EN
CALSCALE:GREGORIAN
METHOD:PUBLISH
X-ORIGINAL-URL:https://integrativehealingartsstudio.org
X-WR-CALDESC:Events for Integrative Healing Arts Studio
REFRESH-INTERVAL;VALUE=DURATION:PT1H
X-Robots-Tag:noindex
X-PUBLISHED-TTL:PT1H
BEGIN:VTIMEZONE
TZID:America/New_York
BEGIN:DAYLIGHT
TZOFFSETFROM:-0500
TZOFFSETTO:-0400
TZNAME:EDT
DTSTART:20150308T070000
END:DAYLIGHT
BEGIN:STANDARD
TZOFFSETFROM:-0400
TZOFFSETTO:-0500
TZNAME:EST
DTSTART:20151101T060000
END:STANDARD
BEGIN:DAYLIGHT
TZOFFSETFROM:-0500
TZOFFSETTO:-0400
TZNAME:EDT
DTSTART:20160313T070000
END:DAYLIGHT
BEGIN:STANDARD
TZOFFSETFROM:-0400
TZOFFSETTO:-0500
TZNAME:EST
DTSTART:20161106T060000
END:STANDARD
BEGIN:DAYLIGHT
TZOFFSETFROM:-0500
TZOFFSETTO:-0400
TZNAME:EDT
DTSTART:20170312T070000
END:DAYLIGHT
BEGIN:STANDARD
TZOFFSETFROM:-0400
TZOFFSETTO:-0500
TZNAME:EST
DTSTART:20171105T060000
END:STANDARD
END:VTIMEZONE
BEGIN:VEVENT
DTSTART;TZID=America/New_York:20160915T190000
DTEND;TZID=America/New_York:20160915T200000
DTSTAMP:20260423T214819
CREATED:20160831T214620Z
LAST-MODIFIED:20160904T014443Z
UID:828-1473966000-1473969600@integrativehealingartsstudio.org
SUMMARY:Full Moon Crystal Meditation
DESCRIPTION:*Thank you\, this class is now full* When the moon is full it has completed its cycle\, representing endings\, closure and transformation. This is a time to face\, bless and release anything in ourselves and our lives we wish to move on from. Join us for a relaxing and healing meditation that incorporates crystals and sound healing music to facilitate release of what no longer serves you.  Reiki is shared during the meditation.  A crystal set is included in the price of the class.  Registration must be completed at the link below. Space is very limited\, payment is required during registration to hold your space and is non-refundable if cancelled without 24 hour notice before class.
URL:https://integrativehealingartsstudio.org/event/full-moon-crystal-meditation-3/
LOCATION:Integrative Healing Arts Studio\, 546 Penn Ave\, West Reading\, 19611\, United States
CATEGORIES:Crystal Meditation,Full Moon Meditation
END:VEVENT
BEGIN:VEVENT
DTSTART;TZID=America/New_York:20160818T190000
DTEND;TZID=America/New_York:20160818T200000
DTSTAMP:20260423T214819
CREATED:20160806T004729Z
LAST-MODIFIED:20160816T115029Z
UID:799-1471546800-1471550400@integrativehealingartsstudio.org
SUMMARY:Full Moon Crystal Meditation
DESCRIPTION:When the moon is full it has completed its cycle\, representing endings\, closure and transformation. This is a time to face\, bless and release anything in ourselves and our lives we wish to move on from. Join us for a relaxing and healing meditation that incorporates crystals and sound healing music to facilitate release of what no longer serves you.  Reiki is shared during the meditation.  A crystal set is included in the price of the class.  Bring a yoga mat.  Registration must be completed at the link below by 8/11. Space is very limited\, payment is required during registration to hold your space and is non-refundable if cancelled without 24 hour notice before class.
URL:https://integrativehealingartsstudio.org/event/full-moon-crystal-meditation-2/
LOCATION:Integrative Healing Arts Studio\, 546 Penn Ave\, West Reading\, 19611\, United States
CATEGORIES:Crystal Meditation,Full Moon Meditation
END:VEVENT
BEGIN:VEVENT
DTSTART;TZID=America/New_York:20160719T190000
DTEND;TZID=America/New_York:20160719T200000
DTSTAMP:20260423T214819
CREATED:20160628T111012Z
LAST-MODIFIED:20160712T105832Z
UID:684-1468954800-1468958400@integrativehealingartsstudio.org
SUMMARY:Full Moon Crystal Meditation
DESCRIPTION:***Thank you\, this class is now full***Join us for a relaxing and healing meditation that incorporates crystals and sound healing music to facilitate release of what no longer serves you.  Reiki is shared during the meditation.  A crystal set is included in the price of the class.  Bring a yoga mat.  Registration must be completed at the link below by 7/12. Space is very limited\, payment is required during registration to hold your space and is non-refundable if cancelled without 24 hour notice before class.
URL:https://integrativehealingartsstudio.org/event/full-moon-crystal-meditation/
LOCATION:Integrative Healing Arts Studio\, 546 Penn Ave\, West Reading\, 19611\, United States
CATEGORIES:Full Moon Meditation
END:VEVENT
END:VCALENDAR