BEGIN:VCALENDAR
VERSION:2.0
PRODID:-//Integrative Healing Arts Studio - ECPv6.15.17.1//NONSGML v1.0//EN
CALSCALE:GREGORIAN
METHOD:PUBLISH
X-ORIGINAL-URL:https://integrativehealingartsstudio.org
X-WR-CALDESC:Events for Integrative Healing Arts Studio
REFRESH-INTERVAL;VALUE=DURATION:PT1H
X-Robots-Tag:noindex
X-PUBLISHED-TTL:PT1H
BEGIN:VTIMEZONE
TZID:America/New_York
BEGIN:DAYLIGHT
TZOFFSETFROM:-0500
TZOFFSETTO:-0400
TZNAME:EDT
DTSTART:20150308T070000
END:DAYLIGHT
BEGIN:STANDARD
TZOFFSETFROM:-0400
TZOFFSETTO:-0500
TZNAME:EST
DTSTART:20151101T060000
END:STANDARD
BEGIN:DAYLIGHT
TZOFFSETFROM:-0500
TZOFFSETTO:-0400
TZNAME:EDT
DTSTART:20160313T070000
END:DAYLIGHT
BEGIN:STANDARD
TZOFFSETFROM:-0400
TZOFFSETTO:-0500
TZNAME:EST
DTSTART:20161106T060000
END:STANDARD
BEGIN:DAYLIGHT
TZOFFSETFROM:-0500
TZOFFSETTO:-0400
TZNAME:EDT
DTSTART:20170312T070000
END:DAYLIGHT
BEGIN:STANDARD
TZOFFSETFROM:-0400
TZOFFSETTO:-0500
TZNAME:EST
DTSTART:20171105T060000
END:STANDARD
BEGIN:DAYLIGHT
TZOFFSETFROM:-0500
TZOFFSETTO:-0400
TZNAME:EDT
DTSTART:20180311T070000
END:DAYLIGHT
BEGIN:STANDARD
TZOFFSETFROM:-0400
TZOFFSETTO:-0500
TZNAME:EST
DTSTART:20181104T060000
END:STANDARD
BEGIN:DAYLIGHT
TZOFFSETFROM:-0500
TZOFFSETTO:-0400
TZNAME:EDT
DTSTART:20190310T070000
END:DAYLIGHT
BEGIN:STANDARD
TZOFFSETFROM:-0400
TZOFFSETTO:-0500
TZNAME:EST
DTSTART:20191103T060000
END:STANDARD
BEGIN:DAYLIGHT
TZOFFSETFROM:-0500
TZOFFSETTO:-0400
TZNAME:EDT
DTSTART:20200308T070000
END:DAYLIGHT
BEGIN:STANDARD
TZOFFSETFROM:-0400
TZOFFSETTO:-0500
TZNAME:EST
DTSTART:20201101T060000
END:STANDARD
BEGIN:DAYLIGHT
TZOFFSETFROM:-0500
TZOFFSETTO:-0400
TZNAME:EDT
DTSTART:20210314T070000
END:DAYLIGHT
BEGIN:STANDARD
TZOFFSETFROM:-0400
TZOFFSETTO:-0500
TZNAME:EST
DTSTART:20211107T060000
END:STANDARD
BEGIN:DAYLIGHT
TZOFFSETFROM:-0500
TZOFFSETTO:-0400
TZNAME:EDT
DTSTART:20220313T070000
END:DAYLIGHT
BEGIN:STANDARD
TZOFFSETFROM:-0400
TZOFFSETTO:-0500
TZNAME:EST
DTSTART:20221106T060000
END:STANDARD
BEGIN:DAYLIGHT
TZOFFSETFROM:-0500
TZOFFSETTO:-0400
TZNAME:EDT
DTSTART:20230312T070000
END:DAYLIGHT
BEGIN:STANDARD
TZOFFSETFROM:-0400
TZOFFSETTO:-0500
TZNAME:EST
DTSTART:20231105T060000
END:STANDARD
BEGIN:DAYLIGHT
TZOFFSETFROM:-0500
TZOFFSETTO:-0400
TZNAME:EDT
DTSTART:20240310T070000
END:DAYLIGHT
BEGIN:STANDARD
TZOFFSETFROM:-0400
TZOFFSETTO:-0500
TZNAME:EST
DTSTART:20241103T060000
END:STANDARD
END:VTIMEZONE
BEGIN:VEVENT
DTSTART;TZID=America/New_York:20230518T180000
DTEND;TZID=America/New_York:20230518T190000
DTSTAMP:20260423T181011
CREATED:20230508T163221Z
LAST-MODIFIED:20230508T163221Z
UID:6127-1684432800-1684436400@integrativehealingartsstudio.org
SUMMARY:New Moon Manifesting Meditation with Reiki
DESCRIPTION:Registration is required at the link in event. Join us for a relaxing meditation. Relax\, restore and plant your seeds of intention using crystals\, sound healing music\, and Reiki energy to open to abundance\, prosperity\, and a fresh start. A set of specially chosen crystals is included in the class price. Reiki is shared during the meditation. Please bring your own yoga mat\, blanket and pillow for comfort. Chairs are available if needed. (Please let me know if you need a chair prior). \nParking is street parking or the paid shopping center parking lot across the street from the studio. Use the Parkmobile app to pay from your car or kiosks along Penn Ave. Please do not park in the lots on the sides or back of the building as they belong to other businesses. A card on file will be needed to book this class\, payment can be made the night of the class.
URL:https://integrativehealingartsstudio.org/event/new-moon-manifesting-meditation-with-reiki/
LOCATION:Integrative Healing Arts Studio\, 546 Penn Ave\, West Reading\, 19611\, United States
CATEGORIES:Crystal Meditation,Guided Meditation,New Moon Meditation
END:VEVENT
BEGIN:VEVENT
DTSTART;TZID=America/New_York:20221122T180000
DTEND;TZID=America/New_York:20221122T190000
DTSTAMP:20260423T181011
CREATED:20221102T133702Z
LAST-MODIFIED:20221102T133702Z
UID:5714-1669140000-1669143600@integrativehealingartsstudio.org
SUMMARY:New Moon Manifesting Crystal Meditation with Reiki
DESCRIPTION:Join us for a relaxing meditation. Relax\, restore and plant your seeds of intention using crystals\, sound healing music\, and Reiki energy to open to abundance\, prosperity\, and a fresh start. A set of specially chosen crystals is included in the class price. Reiki is shared during the meditation.\n\nPlease bring your own yoga mat\, blanket and pillow for comfort. Chairs are available if needed. (Please let me know if you need a chair prior). Parking is street parking or the paid shopping center parking lot across the street from the studio. Use the Flowbird app to pay from your car or kiosks along Penn Ave. Please do not park in the lots on the sides or back of the building as they belong to other businesses. A card on file will be needed to book this class\, payment can be made the night of the class.\n\n\nPrice: $15.00
URL:https://integrativehealingartsstudio.org/event/new-moon-manifesting-crystal-meditation-with-reiki-2/
LOCATION:Integrative Healing Arts Studio\, 546 Penn Ave\, West Reading\, 19611\, United States
CATEGORIES:Crystal Meditation,New Moon Meditation
END:VEVENT
BEGIN:VEVENT
DTSTART;TZID=America/New_York:20221025T180000
DTEND;TZID=America/New_York:20221025T190000
DTSTAMP:20260423T181011
CREATED:20221009T161741Z
LAST-MODIFIED:20221024T123949Z
UID:5654-1666720800-1666724400@integrativehealingartsstudio.org
SUMMARY:New Moon Sound Bath Meditation with Michelle
DESCRIPTION:Online registration required. $15 -includes an intuitively crafted herbal healing pouch.\n\n\nWe have a powerful New Moon and Solar Eclipse taking place on the day of this event! Solar Eclipses always fall on New Moons are know as portals of new beginnings. They open doors and can form new energetic pathways for us.\nUsually under a New Moon Solar Eclipse\, we may feel inspired or perhaps guided to plant new seeds and begin a new chapter in our lives but this Solar Eclipse falls in the sign of Scorpio\, so we may find ourselves connecting to a higher level of our soul\, understanding ourselves on a deeper level\, and peeling back some layers to reveal a new truth\, this may make us feel liberated but could also bring about feelings of un-comfort.\n\n\nSolar Eclipses can also activate our soul contracts and karmic gifts and lessons. With this eclipse being in the sign of Scorpio the energy may seem..well…a bit intense! It will be important to focus on bringing ourselves into a peaceful state of alignment to navigate these powerful energies\, and our Sound Bath Meditation will do just that!\n\nMichelle will be facilitating the sound bath meditation and will use a variety of sound instruments as she guides you into a peaceful state of alignment. Use online booking at the link in the event to reserve your space. $15 per person\, find it in the events section.\n\n\n\nPlease bring a mat\, pillow\, and blanket for comfort. If you need a chair instead of laying down please let me know prior so I can have one there for you. Parking is street parking or in the shopping center lot across the street ($1 per hour in that lot\, use the Flowbird app to pay or kiosks along Penn Ave) Please do not park in the lots behind or on the sides of the building\, they belong to other businesses. Hope to see you!
URL:https://integrativehealingartsstudio.org/event/new-moon-sound-bath-meditation-with-michelle/
LOCATION:Integrative Healing Arts Studio\, 546 Penn Ave\, West Reading\, 19611\, United States
CATEGORIES:Guided Meditation,New Moon Meditation
END:VEVENT
BEGIN:VEVENT
DTSTART;TZID=America/New_York:20220825T183000
DTEND;TZID=America/New_York:20220825T193000
DTSTAMP:20260423T181011
CREATED:20220730T125307Z
LAST-MODIFIED:20220730T125307Z
UID:5551-1661452200-1661455800@integrativehealingartsstudio.org
SUMMARY:Make Your Own Abundance Bracelet and Aroma Blend for the New Moon (1 CEU Eligible for LMT)
DESCRIPTION:The August New Moon falls on August 27th\, and a few days before is the perfect time to gather your intentions to manifest your wishes! This workshop will be held on 8/25 at 6:30pm till aprox 7:30 pm. We will be making our own beaded crystal aromatherapy stretch bracelet using crystals that are uplifting and attract abundance. We will also make a matching aromatherapy roll-on blend that can be used to scent the bracelets or as an uplifting natural perfume oil. Crystals\, essential oils\, and herbs all have the power to lend their natural vibrations to us and we will talk about that as we are creating! The aromatherapy blend we are creating is also a wonderful blend to support a healthy mood\, when we feel happy we are able to open up more to abundance! Registration is required at the link in event or contact the studio to register. $25 per person or register with a friend for $5 off each! \nAnyone is welcome to attend but this workshop will also count as an Aromatherapy Workshop for Licensed Massage Therapists for 1 CEU-Topical Applications for Emotional Well Being
URL:https://integrativehealingartsstudio.org/event/make-your-own-abundance-bracelet-and-aroma-blend-for-the-new-moon-1-ceu-eligible-for-lmt/
LOCATION:Integrative Healing Arts Studio\, 546 Penn Ave\, West Reading\, 19611\, United States
CATEGORIES:Aromatherapy Workshop,Classes,Continuing Education,New Moon Meditation
END:VEVENT
BEGIN:VEVENT
DTSTART;TZID=America/New_York:20220529T100000
DTEND;TZID=America/New_York:20220529T110000
DTSTAMP:20260423T181011
CREATED:20220517T215331Z
LAST-MODIFIED:20220517T215331Z
UID:5417-1653818400-1653822000@integrativehealingartsstudio.org
SUMMARY:New Moon Manifesting Crystal Meditation with Reiki
DESCRIPTION:Join us for a relaxing meditation. Relax\, restore and plant your seeds of intention using crystals\, sound healing music\, and Reiki energy to open to abundance\, prosperity\, and a fresh start. A set of specially chosen crystals is included in the class price. Reiki is shared during the meditation. Registration is required. Payment is required at time of registration and is non-refundable if cancelled without 24 hour notice before class. \nClass is held on the ground level however if needed bathrooms are on the 2nd floor up steps. Please bring your own yoga mat and a blanket and pillow for comfort. Chairs are available if needed. (Please let me know if you need a chair prior). Parking is street parking or the paid parking lot across the street from the studio. Please do not park in the lots on the sides or back of the building as they belong to other businesses.
URL:https://integrativehealingartsstudio.org/event/new-moon-manifesting-crystal-meditation-with-reiki/
LOCATION:Integrative Healing Arts Studio\, 546 Penn Ave\, West Reading\, 19611\, United States
CATEGORIES:Crystal Meditation,New Moon Meditation
END:VEVENT
BEGIN:VEVENT
DTSTART;TZID=America/New_York:20220329T183000
DTEND;TZID=America/New_York:20220329T193000
DTSTAMP:20260423T181011
CREATED:20220322T124150Z
LAST-MODIFIED:20220322T125004Z
UID:5234-1648578600-1648582200@integrativehealingartsstudio.org
SUMMARY:New Moon Manifesting Crystal Meditation
DESCRIPTION:Join us for a relaxing meditation in preparation of the New Moon on April 1st.  Relax\, restore and plant your seeds of intention using crystals\, sound healing music\, and Reiki energy to open to abundance\, prosperity\, and a fresh start. A set of specially chosen crystals is included in the class price. Reiki is shared during the meditation. Payment is required at time of registration and is non-refundable if cancelled without 24 hour notice before class. Class is held on the ground level however if needed bathrooms are on the 2nd floor up steps. Please bring your own yoga mat and a blanket. Chairs are available if needed. (Please let me know if you need a chair prior).
URL:https://integrativehealingartsstudio.org/event/new-moon-manifesting-crystal-meditation-3/
LOCATION:Integrative Healing Arts Studio\, 546 Penn Ave\, West Reading\, 19611\, United States
CATEGORIES:Crystal Meditation,New Moon Meditation
END:VEVENT
BEGIN:VEVENT
DTSTART;TZID=America/New_York:20220102T100000
DTEND;TZID=America/New_York:20220102T110000
DTSTAMP:20260423T181011
CREATED:20211226T222732Z
LAST-MODIFIED:20211229T221434Z
UID:5064-1641117600-1641121200@integrativehealingartsstudio.org
SUMMARY:New Moon New Year Crystal Meditation
DESCRIPTION:***Update-I currently have the online registration for this class turned off. Due to the increased spread of illness in our area I will most likely have to cancel this event***The first new moon of 2022! Let’s set our intentions for an abundant new year! Relax\, restore and plant your seeds of intention using crystals\, sound healing music\, and Reiki energy to open to abundance\, prosperity\, and a fresh start. A set of specially chosen crystals is included in the class price. Reiki is shared during the meditation. \nPayment is required at time of registration and is non-refundable. If for some reason you can’t make it payment can be applied to another class within 1 year as long as you give 24 hours notice prior to cancelling. ***Space is very limited and by registering for this class you acknowledge that social distancing cannot be adhered to during your visit. Masks are by choice. If you have any questions about the class please contact me prior to registering.***
URL:https://integrativehealingartsstudio.org/event/new-moon-new-year-crystal-meditation/
LOCATION:Integrative Healing Arts Studio\, 546 Penn Ave\, West Reading\, 19611\, United States
CATEGORIES:Crystal Meditation,New Moon Meditation
END:VEVENT
BEGIN:VEVENT
DTSTART;TZID=America/New_York:20190731T183000
DTEND;TZID=America/New_York:20190731T193000
DTSTAMP:20260423T181011
CREATED:20190724T105825Z
LAST-MODIFIED:20190724T105825Z
UID:3697-1564597800-1564601400@integrativehealingartsstudio.org
SUMMARY:Black Moon Crystal Meditation
DESCRIPTION:On July 31st there occurs a second new moon of the month\, often called the Black Moon. This moon is also a “supermoon” meaning it is nearest to earth in its orbit. This is a powerful time which will occur in the sign of Leo and a good time work on building self confidence\, leadership skills\, and awaken creativity.  Join us for a special crystal meditation that includes crystals\, sound healing\, and Reiki to help you set your intentions and grow in these areas.  A special crystal set is included in the class price. Space is limited. Registration is required\, payment of $15 is due at registration and is non-refundable. If cancelled with at least 24 hours notice before class your payment can be applied to another class. \n*This class is being held at the West Reading location\, 2nd floor with steps\, and you will be laying on yoga mats on the floor. Mats are provided but you can bring your own if you wish.
URL:https://integrativehealingartsstudio.org/event/black-moon-crystal-meditation-2/
LOCATION:Integrative Healing Arts Studio\, 546 Penn Ave\, West Reading\, 19611\, United States
CATEGORIES:Crystal Meditation,New Moon Meditation
ATTACH;FMTTYPE=image/jpeg:https://integrativehealingartsstudio.org/wp-content/uploads/2016/08/IMG_3479.jpg
END:VEVENT
BEGIN:VEVENT
DTSTART;TZID=America/New_York:20190303T100000
DTEND;TZID=America/New_York:20190303T110000
DTSTAMP:20260423T181011
CREATED:20190215T131428Z
LAST-MODIFIED:20190215T131516Z
UID:3360-1551607200-1551610800@integrativehealingartsstudio.org
SUMMARY:New Moon Manifesting Meditation
DESCRIPTION:Join us for a relaxing meditation Sunday March 3rd in preparation of the March 6th new moon. Relax\, restore and plant your seeds of intention using crystals and sound healing music to open to abundance\, prosperity\, and a fresh start. A set of specially chosen crystals is included in the class price. Reiki is shared during the meditation. Payment is required at time of registration and is non-refundable if cancelled without 24 hour notice before class. Space is very limited\, registration is required.
URL:https://integrativehealingartsstudio.org/event/new-moon-manifesting-meditation/
LOCATION:Integrative Healing Arts Studio\, 546 Penn Ave\, West Reading\, 19611\, United States
CATEGORIES:Crystal Meditation,New Moon Meditation
ATTACH;FMTTYPE=image/jpeg:https://integrativehealingartsstudio.org/wp-content/uploads/2019/02/IMG_8263.jpg
END:VEVENT
BEGIN:VEVENT
DTSTART;TZID=America/New_York:20180214T190000
DTEND;TZID=America/New_York:20180214T200000
DTSTAMP:20260423T181011
CREATED:20180109T205410Z
LAST-MODIFIED:20180209T023058Z
UID:2442-1518634800-1518638400@integrativehealingartsstudio.org
SUMMARY:Rose Quartz Crystal Meditation and Tea Circle
DESCRIPTION:**Only a few spaces remain\, register soon! **In the spirit of Valentine’s Day join us for a special crystal meditation. Rose quartz is known as the ‘love stone’ as the message it emits is the strong vibration of unconditional love\, joy\, warmth and healing. It helps to kindle happiness\, love\, peace and calming energy as well as release sadness\, heartache\, anger & stress.  Rose quartz crystals will be placed on the body as you meditate to sound healing music. Reiki will be shared during the meditation and a heart opening rose petal herbal tea will be served. A rose quartz crystal set is included in the class price of $20. \nRegistration and full payment is required to secure your place in class\, non refundable if cancelled without 24 hour notice before class date. Space is very limited\, register soon!
URL:https://integrativehealingartsstudio.org/event/rose-quartz-crystal-meditation-and-tea-circle/
LOCATION:Integrative Healing Arts Studio\, 546 Penn Ave\, West Reading\, 19611\, United States
CATEGORIES:Crystal Meditation,New Moon Meditation
ATTACH;FMTTYPE=image/jpeg:https://integrativehealingartsstudio.org/wp-content/uploads/2016/04/il_570xN.452214237_b8v5.jpg
END:VEVENT
BEGIN:VEVENT
DTSTART;TZID=America/New_York:20171018T190000
DTEND;TZID=America/New_York:20171018T200000
DTSTAMP:20260423T181011
CREATED:20170929T171911Z
LAST-MODIFIED:20170929T171911Z
UID:2140-1508353200-1508356800@integrativehealingartsstudio.org
SUMMARY:New Moon Crystal Meditation
DESCRIPTION:Join us for a relaxing meditation where we will be harnessing the energy of the new moon using crystals and sound healing music to open ourselves to abundance\, prosperity\, and a fresh start. A set of specially chosen crystals is included in the class price. Reiki is shared during the meditation. Payment is required at time of registration and is non-refundable if cancelled without 24 hour notice before class. Space is very limited\, registration is required. Contact me to register or click the link below. $15
URL:https://integrativehealingartsstudio.org/event/new-moon-crystal-meditation-4/
LOCATION:Integrative Healing Arts Studio\, 546 Penn Ave\, West Reading\, 19611\, United States
CATEGORIES:Classes,Crystal Meditation,New Moon Meditation
ATTACH;FMTTYPE=image/jpeg:https://integrativehealingartsstudio.org/wp-content/uploads/2016/08/12047003_962860440444777_3281450914338685199_n.jpg
END:VEVENT
BEGIN:VEVENT
DTSTART;TZID=America/New_York:20170920T190000
DTEND;TZID=America/New_York:20170920T200000
DTSTAMP:20260423T181011
CREATED:20170907T234619Z
LAST-MODIFIED:20170907T234619Z
UID:2063-1505934000-1505937600@integrativehealingartsstudio.org
SUMMARY:New Moon Crystal Meditation
DESCRIPTION:Join us for a relaxing meditation where we will be harnessing the energy of the new moon using crystals and sound healing music to open ourselves to abundance\, prosperity\, and a fresh start. A set of specially chosen crystals is included in the class price.  Reiki is shared during the meditation. Payment is required at time of registration and is non-refundable if cancelled without 24 hour notice before class. Space is very limited. Contact me to register or click the link below.
URL:https://integrativehealingartsstudio.org/event/new-moon-crystal-meditation-3/
LOCATION:Integrative Healing Arts Studio\, 546 Penn Ave\, West Reading\, 19611\, United States
CATEGORIES:Crystal Meditation,New Moon Meditation
ATTACH;FMTTYPE=image/jpeg:https://integrativehealingartsstudio.org/wp-content/uploads/2015/10/IMG_3355.jpg
END:VEVENT
BEGIN:VEVENT
DTSTART;TZID=America/New_York:20170820T100000
DTEND;TZID=America/New_York:20170820T110000
DTSTAMP:20260423T181011
CREATED:20170808T110659Z
LAST-MODIFIED:20170811T110458Z
UID:1992-1503223200-1503226800@integrativehealingartsstudio.org
SUMMARY:New Moon and Solar Eclipse Crystal Meditation
DESCRIPTION:***Thank you\, this class is now full*** Join us for a relaxing meditation where we will be harnessing the energy of the new moon & solar eclipse that is happening on August 21st using crystals and sound healing music to open ourselves to abundance\, prosperity\, and a fresh start. A set of specially chosen crystals is included in the class price.  Reiki is shared during the meditation. Payment is required at time of registration and is non-refundable if cancelled without 24 hour notice before class. Space is very limited. Contact me to register or click the link below.
URL:https://integrativehealingartsstudio.org/event/new-moon-and-solar-eclipse-crystal-meditation/
LOCATION:Integrative Healing Arts Studio\, 546 Penn Ave\, West Reading\, 19611\, United States
CATEGORIES:Crystal Meditation,New Moon Meditation
ATTACH;FMTTYPE=image/jpeg:https://integrativehealingartsstudio.org/wp-content/uploads/2016/08/solar-eclipse.jpg
END:VEVENT
BEGIN:VEVENT
DTSTART;TZID=America/New_York:20170723T100000
DTEND;TZID=America/New_York:20170723T110000
DTSTAMP:20260423T181011
CREATED:20170701T120723Z
LAST-MODIFIED:20170721T114534Z
UID:1925-1500804000-1500807600@integrativehealingartsstudio.org
SUMMARY:New Moon Crystal Meditation
DESCRIPTION:Join us for a relaxing meditation where we will be harnessing the energy of the new moon using crystals and sound healing music to open ourselves to abundance\, prosperity\, and a fresh start. A set of specially chosen crystals is included in the class price.  Reiki is shared during the meditation.  Payment is required at time of registration and is non-refundable if cancelled without 24 hour notice before class. Space is very limited. Contact me to register or click the link below.
URL:https://integrativehealingartsstudio.org/event/new-moon-crystal-meditation-2/
LOCATION:Integrative Healing Arts Studio\, 546 Penn Ave\, West Reading\, 19611\, United States
CATEGORIES:Crystal Meditation,New Moon Meditation
ATTACH;FMTTYPE=image/jpeg:https://integrativehealingartsstudio.org/wp-content/uploads/2015/10/IMG_3355.jpg
END:VEVENT
BEGIN:VEVENT
DTSTART;TZID=America/New_York:20170226T093000
DTEND;TZID=America/New_York:20170226T103000
DTSTAMP:20260423T181011
CREATED:20170123T001513Z
LAST-MODIFIED:20170222T224144Z
UID:1510-1488101400-1488105000@integrativehealingartsstudio.org
SUMMARY:New Moon Crystal Meditation-Solar Eclipse
DESCRIPTION:*Thank you\, this class is now full* Join us for a relaxing meditation where we will be harnessing the energy of the new moon & solar eclipse using crystals and sound healing music to open ourselves to abundance\, prosperity\, and a fresh start. A set of specially chosen crystals is included in the class price.  Reiki is shared during the meditation. Bring a yoga mat. Payment is required at time of registration and is non-refundable if cancelled without 24 hour notice before class. Space is very limited. Contact me to register or click the link below.
URL:https://integrativehealingartsstudio.org/event/new-moon-crystal-meditation-solar-eclipse/
LOCATION:Integrative Healing Arts Studio\, 546 Penn Ave\, West Reading\, 19611\, United States
CATEGORIES:Crystal Meditation,New Moon Meditation
ATTACH;FMTTYPE=image/jpeg:https://integrativehealingartsstudio.org/wp-content/uploads/2017/01/IMG_2041.jpg
END:VEVENT
BEGIN:VEVENT
DTSTART;TZID=America/New_York:20161030T100000
DTEND;TZID=America/New_York:20161030T110000
DTSTAMP:20260423T181011
CREATED:20161010T132143Z
LAST-MODIFIED:20161010T132143Z
UID:965-1477821600-1477825200@integrativehealingartsstudio.org
SUMMARY:New Moon Crystal Meditation
DESCRIPTION:Join us for a relaxing meditation where we will be harnessing the energy of the new moon  using crystals and sound healing music to open ourselves to abundance and prosperity. A set of crystals chosen for their ability to attract abundance and prosperity are included in this class.  Payment of $15 is required at time of registration and is non-refundable if cancelled without 24 hour notice before class. Space is very limited. Contact me to register or click the link below.
URL:https://integrativehealingartsstudio.org/event/new-moon-crystal-meditation/
LOCATION:Integrative Healing Arts Studio\, 546 Penn Ave\, West Reading\, 19611\, United States
CATEGORIES:Crystal Meditation,New Moon Meditation
ATTACH;FMTTYPE=image/jpeg:https://integrativehealingartsstudio.org/wp-content/uploads/2015/10/IMG_3355.jpg
END:VEVENT
BEGIN:VEVENT
DTSTART;TZID=America/New_York:20160901T190000
DTEND;TZID=America/New_York:20160901T200000
DTSTAMP:20260423T181011
CREATED:20160812T015640Z
LAST-MODIFIED:20160821T115214Z
UID:809-1472756400-1472760000@integrativehealingartsstudio.org
SUMMARY:New Moon & Solar Eclipse Crystal Meditation
DESCRIPTION:**Thank you\, this class is now full**Join us for a relaxing meditation where we will be harnessing the energy of the new moon & solar eclipse using crystals and sound healing music to open ourselves to abundance\, prosperity\, and a fresh start. A set of specially chosen crystals is included in the class price.  Reiki is shared during the meditation. Bring a yoga mat. Payment is required at time of registration and is non-refundable if cancelled without 24 hour notice before class. Space is very limited. Contact me to register or click the link below.
URL:https://integrativehealingartsstudio.org/event/new-moon-solar-eclipse-crystal-meditation/
LOCATION:Integrative Healing Arts Studio\, 546 Penn Ave\, West Reading\, 19611\, United States
CATEGORIES:Crystal Meditation,New Moon Meditation
ATTACH;FMTTYPE=image/jpeg:https://integrativehealingartsstudio.org/wp-content/uploads/2016/08/solar-eclipse.jpg
END:VEVENT
BEGIN:VEVENT
DTSTART;TZID=America/New_York:20160802T190000
DTEND;TZID=America/New_York:20160802T200000
DTSTAMP:20260423T181011
CREATED:20160712T145955Z
LAST-MODIFIED:20160731T211407Z
UID:742-1470164400-1470168000@integrativehealingartsstudio.org
SUMMARY:New Moon Manifesting Crystal Meditation
DESCRIPTION:*Thank you\, this event is now full* Join us for a relaxing meditation where we will be harnessing the energy of the new moon  using crystals and sound healing music to open ourselves to abundance and prosperity. A set of crystals chosen for their ability to attract abundance and prosperity are included in this class. Bring a yoga mat. Payment is required at time of registration and is non-refundable if cancelled without 24 hour notice before class. Space is very limited. Contact me to register.
URL:https://integrativehealingartsstudio.org/event/new-moon-manifesting-crystal-meditation-2/
LOCATION:Integrative Healing Arts Studio\, 546 Penn Ave\, West Reading\, 19611\, United States
CATEGORIES:Crystal Meditation,New Moon Meditation
ATTACH;FMTTYPE=image/jpeg:https://integrativehealingartsstudio.org/wp-content/uploads/2015/10/IMG_3355.jpg
END:VEVENT
BEGIN:VEVENT
DTSTART;TZID=America/New_York:20160703T093000
DTEND;TZID=America/New_York:20160703T103000
DTSTAMP:20260423T181011
CREATED:20160628T132155Z
LAST-MODIFIED:20160628T132155Z
UID:685-1467538200-1467541800@integrativehealingartsstudio.org
SUMMARY:New Moon Manifesting Crystal Meditation
DESCRIPTION:Join us for a relaxing meditation where we will be harnessing the energy of the new moon  using crystals and sound healing music to open ourselves to abundance and prosperity. A set of crystals chosen for their ability to attract abundance and prosperity are included in this class. Bring a yoga mat. Payment is required at time of registration and is non-refundable if cancelled without 24 hour notice before class. Space is very limited.
URL:https://integrativehealingartsstudio.org/event/new-moon-manifesting-crystal-meditation/
LOCATION:Integrative Healing Arts Studio\, 546 Penn Ave\, West Reading\, 19611\, United States
CATEGORIES:Crystal Meditation,New Moon Meditation
ATTACH;FMTTYPE=image/jpeg:https://integrativehealingartsstudio.org/wp-content/uploads/2016/03/IMG_1789.jpg
END:VEVENT
END:VCALENDAR