BEGIN:VCALENDAR
VERSION:2.0
PRODID:-//Integrative Healing Arts Studio - ECPv6.15.17.1//NONSGML v1.0//EN
CALSCALE:GREGORIAN
METHOD:PUBLISH
X-ORIGINAL-URL:https://integrativehealingartsstudio.org
X-WR-CALDESC:Events for Integrative Healing Arts Studio
REFRESH-INTERVAL;VALUE=DURATION:PT1H
X-Robots-Tag:noindex
X-PUBLISHED-TTL:PT1H
BEGIN:VTIMEZONE
TZID:America/New_York
BEGIN:DAYLIGHT
TZOFFSETFROM:-0500
TZOFFSETTO:-0400
TZNAME:EDT
DTSTART:20150308T070000
END:DAYLIGHT
BEGIN:STANDARD
TZOFFSETFROM:-0400
TZOFFSETTO:-0500
TZNAME:EST
DTSTART:20151101T060000
END:STANDARD
BEGIN:DAYLIGHT
TZOFFSETFROM:-0500
TZOFFSETTO:-0400
TZNAME:EDT
DTSTART:20160313T070000
END:DAYLIGHT
BEGIN:STANDARD
TZOFFSETFROM:-0400
TZOFFSETTO:-0500
TZNAME:EST
DTSTART:20161106T060000
END:STANDARD
BEGIN:DAYLIGHT
TZOFFSETFROM:-0500
TZOFFSETTO:-0400
TZNAME:EDT
DTSTART:20170312T070000
END:DAYLIGHT
BEGIN:STANDARD
TZOFFSETFROM:-0400
TZOFFSETTO:-0500
TZNAME:EST
DTSTART:20171105T060000
END:STANDARD
BEGIN:DAYLIGHT
TZOFFSETFROM:-0500
TZOFFSETTO:-0400
TZNAME:EDT
DTSTART:20180311T070000
END:DAYLIGHT
BEGIN:STANDARD
TZOFFSETFROM:-0400
TZOFFSETTO:-0500
TZNAME:EST
DTSTART:20181104T060000
END:STANDARD
END:VTIMEZONE
BEGIN:VEVENT
DTSTART;TZID=America/New_York:20170122T093000
DTEND;TZID=America/New_York:20170122T123000
DTSTAMP:20260423T222312
CREATED:20161117T105842Z
LAST-MODIFIED:20170109T141020Z
UID:1061-1485077400-1485088200@integrativehealingartsstudio.org
SUMMARY:Journey into Crystals Class
DESCRIPTION:Learning about crystals is fun with friends\, register with a friend for $10 off each! *Crystals and gemstones have been used for thousands of years as powerful healing aids. We may not always be conscious of it\, but Crystal Therapy is part of our everyday life. We use the power of crystals in the form of rock salt and season our food using table salt crystals. Many people wear precious\, semi-precious stones and different minerals not only as jewelry but for their healing benefits as well.  Crystal healing is a powerful\, yet gentle therapy that works on all levels of the body\, mind and spirit. Crystals have the potential to help all of us in a specialized way. You’ll discover how they can draw in and radiate healing energy specific to each symptom of illness. \nThis is a Crystal Therapy beginner class for those that are new to crystals or would like to further their knowledge in the use of crystals. Class time is 3 hours.  In this class we will explore how crystals synchronize with the seven major chakras for healing and clearing of energy fields.  A set of chakra stones and a pendulum will be included in the price of the class.  We will focus on the healing properties of the stones given in the class and how to use them. \nIn addition\, this class explains how to store and care for your crystals by cleaning\, clearing and charging them to amplify their healing abilities. We’ll also focus on some of the ways crystals and other stones are used in healing methods\, enhancing meditation\, and promoting spiritual development. \nThis class will give you a deeper understanding in one of Mother Nature’s wonderful and natural therapies\, and you’ll soon find yourself pleasantly involved in crystal energy as part of your daily life.\n\nIf you are a Licensed Massage Therapist\, 3 CEU’s will be awarded for this class.  You will learn how to use Crystal Therapy as a stand alone service or how to integrate crystals into your massage sessions.Please see the Classes and Continuing Education Page for important information about continuing education classes.\n\nIf you are a Reiki practitioner crystals can be a wonderful addition to your services as well.  I will show you ways to integrate crystals into your Reiki sessions.\n\nFor this class we will be working on yoga mats.  Please bring one if you have one\, if not I have some extra. Wear comfortable clothing.\n\nThis month I’m offering this class at a special price of $65\, includes crystals and a pendulum. If you sign up with a friend it is an additional $10 off. Class size is limited to 6 people.  Registration is required prior to class with a non-refundable deposit of $25. Register by 1/14/17
URL:https://integrativehealingartsstudio.org/event/crystal-therapy-beginner-class-5/
LOCATION:Integrative Healing Arts Studio\, 546 Penn Ave\, West Reading\, 19611\, United States
CATEGORIES:Classes,Continuing Education,Crystal Meditation
END:VEVENT
BEGIN:VEVENT
DTSTART;TZID=America/New_York:20170121T133000
DTEND;TZID=America/New_York:20170121T143000
DTSTAMP:20260423T222312
CREATED:20161120T192803Z
LAST-MODIFIED:20161120T192803Z
UID:1086-1485005400-1485009000@integrativehealingartsstudio.org
SUMMARY:Aromatherapy Workshop~Banishing the Winter Blahs
DESCRIPTION:January’s Aromatherapy workshop will be held on Saturday January 21st from 1:30pm-2:30pm. The cost of the workshop is $35 and all supplies are included in the class price. Registration is required by January 7th. If you register with a friend the cost of the class is only $30 each! Anyone is welcome to join and if you are a Licensed Massage Therapist\, 1 CEU is awarded. \nEach aromatherapy workshop we focus on different essential oils that can be used and blended to promote health and harmony. This month we will be creating a blend to banish the winter blahs that can be used to diffuse in the home or office\, add to a bath\, or used as a body oil. Essential oil use may not be recommended for certain health conditions or skin sensitivities\, contact me if you have any questions about this workshop. \nThere is a minimum amount of guests required to hold this workshop\, if this is not met the date will be rescheduled. Payment is required at registration.  Contact me to register or click on the online scheduling at the top of page and choose Aromatherapy Workshop from the list of choices. 
URL:https://integrativehealingartsstudio.org/event/aromatherapy-workshopbanishing-the-winter-blahs/
LOCATION:Integrative Healing Arts Studio\, 546 Penn Ave\, West Reading\, 19611\, United States
CATEGORIES:Aromatherapy Workshop,Classes
ATTACH;FMTTYPE=image/jpeg:https://integrativehealingartsstudio.org/wp-content/uploads/2016/11/flowergardenquote.jpg
END:VEVENT
BEGIN:VEVENT
DTSTART;TZID=America/New_York:20161218T100000
DTEND;TZID=America/New_York:20161218T120000
DTSTAMP:20260423T222312
CREATED:20161120T195652Z
LAST-MODIFIED:20161121T115830Z
UID:1089-1482055200-1482062400@integrativehealingartsstudio.org
SUMMARY:Color Therapy Workshop
DESCRIPTION:“For we are not yet wise enough to realize that the pot of gold at the end of the rainbow is not the treasure\, but it is the colors inside the rainbow that is the true treasure to be found” \nJoin us for a unique workshop of therapeutic coloring! Sign up with a friend for $5 off each! Coloring book and refreshments included in class price! \nColor Therapy is using color to promote balance within the body\, mind\, and spirit.  The act of coloring is very therapeutic and puts us in our creative right-brain and allows us to relax\, relieve stress\, and even problem solve! \nHave you seen those neat adult coloring books that are out? I have found them to be very therapeutic and a great way to calm the mind which guided me to facilitate this class.  Color is very healing and by using certain colors you can actually balance your energy and chakras and promote a healthy mind\, body\, and spirit.  In this workshop we will be coloring mandalas\, nature scenes\, knot work\, and other designs and patterns in a relaxing environment filled with healing energy and sound healing music.  If desired\, I can assess the state of your seven major chakras before the class and recommend certain colors for you to work with.  All supplies\, including a coloring book for you to keep will be provided as well as some refreshments. If you have colored pencils or markers you prefer to work with you are free to bring them. No art skills are required\, this is for fun and group healing! \nThe cost of this workshop is $45 and it is 2 hours. Registration is required\, full payment is due at registration.Contact me directly to register.  This class is worth 2 CEU’s for Licensed Massage Therapists and will also cover ways that color therapy can be used and incorporated into your massage therapy practice.  \nPlease see the Classes and Continuing Education Page for important information about continuing education classes for LMT’s.
URL:https://integrativehealingartsstudio.org/event/color-therapy-workshop/
LOCATION:Integrative Healing Arts Studio\, 546 Penn Ave\, West Reading\, 19611\, United States
CATEGORIES:Classes
END:VEVENT
BEGIN:VEVENT
DTSTART;TZID=America/New_York:20161211T093000
DTEND;TZID=America/New_York:20161211T133000
DTSTAMP:20260423T222312
CREATED:20161108T103557Z
LAST-MODIFIED:20161126T130219Z
UID:1041-1481448600-1481463000@integrativehealingartsstudio.org
SUMMARY:Sinus Pressure Massage CE Class
DESCRIPTION:*There is currently only one space left in this class*This is a CE class for Licensed Massage Therapists~4 CEU’s~ $95~Class time 4 hours. Registration & $25 non-refundable deposit due . Contact me directly or register at the link below. Included in class are a set of crystals and 1 oz bottle of an essential oil sinus blend for you to keep. \nCourse Description: Sinus Pressure Massage involves gentle pressure applied to the sinus areas of the face to bring relief from nasal congestion\, facial pain\, and headaches. This course will discuss some of the common causes of sinus problems and conditions and demonstrate different techniques the massage therapist can use to relieve pressure and pain for their clients. This class also includes the use of essential oils\, crystals\, and warm and cold stone applications. All supplies are included. Bring one set of sheets and hand towel.\nThis class is a mixture of lecture and hands on training. Students will: \n● Receive knowledge of various causes of sinus pain and pressure \n● Learn the locations of sinus pressure points on the face\, hands and feet \n● Learn how to give a sinus pressure massage to bring relief to the most common sinus complaints utilizing the use of their hands as well as warm and cold stones and the application of essential oils. \nObserve sinus massage techniques as well as give and receive a sinus massage under the guidance of the instructor \n● Learn how to use sinus pressure massage to enhance their current services or add on services\nLearning Objectives & Outcomes \nUpon completion of this course students will demonstrate proficiency in the understanding of the causes of sinus pressure and pain and the techniques that can be used to bring relief to the most common sinus complaints. Students will also learn safety precautions and contraindications involved with sinus conditions and the techniques used.
URL:https://integrativehealingartsstudio.org/event/sinus-pressure-massage-ce-class-3/
LOCATION:Integrative Healing Arts Studio\, 546 Penn Ave\, West Reading\, 19611\, United States
CATEGORIES:Classes,Continuing Education,Sinus Pressure Massage Class
ATTACH;FMTTYPE=image/jpeg:https://integrativehealingartsstudio.org/wp-content/uploads/2016/03/naomassaaz2.jpg
END:VEVENT
BEGIN:VEVENT
DTSTART;TZID=America/New_York:20161119T123000
DTEND;TZID=America/New_York:20161119T153000
DTSTAMP:20260423T222312
CREATED:20160928T120510Z
LAST-MODIFIED:20161116T114604Z
UID:903-1479558600-1479569400@integrativehealingartsstudio.org
SUMMARY:Chakra Basics Class
DESCRIPTION:Chakra is a Sanskrit word that means wheel and commonly refers to the wheels of energy throughout the body.  There are 7 major chakras that are aligned down the spine.  The vibrant energy generated by the chakras is a vital life force that keeps our body\, mind\, and spirit in good health. Students will learn the basics of the chakra system including the traits of each chakra and how they are associated with different areas of the physical body\, emotions\, and mental aspects. Students will also learn how to identify chakra imbalances in themselves and others and simple ways to bring the chakra system back into balance. \nThis is a 3 hour class. $60-Registration is required. Early Registration discount of $15 if registered by 11/12. A non-refundable deposit of $20 will be required during registration to hold your place. There is a minimum number of students needed to hold a class\, if this is not met the class will be rescheduled to a later date. Payment is due in full on the first day of class. Anyone can learn\, 3 CEU’s are awarded for Licensed Massage Therapists. Call 610-451-9577. \nPlease see the Continuing Education Page for important information about continuing education classes for LMT’s.
URL:https://integrativehealingartsstudio.org/event/chakra-basics-class-2/
LOCATION:Integrative Healing Arts Studio\, 546 Penn Ave\, West Reading\, 19611\, United States
CATEGORIES:Classes,Continuing Education
END:VEVENT
BEGIN:VEVENT
DTSTART;TZID=America/New_York:20161113T113000
DTEND;TZID=America/New_York:20161113T133000
DTSTAMP:20260423T222312
CREATED:20160928T122208Z
LAST-MODIFIED:20161010T104039Z
UID:910-1479036600-1479043800@integrativehealingartsstudio.org
SUMMARY:Taoist Yoga Self Care Class
DESCRIPTION:Thank you\, this class is now full -Anyone is welcome to join\, 2 CEU’s awarded to Licensed Massage Therapists.  This is a 2 hour class where you will learn how to maintain your mind~body~spirit and be a strong vessel with Taoist Yoga.  Taoist Yoga is based on WuXing\, the five Chinese alchemical elements of Earth\, Metal\, Water\, Wood & Fire as they are transmuted into Qi (vital life force energy) within the body by moving and static postures to create well being and balance within the body\, mind & spirit. I will instruct you through an easy to remember series of moving and static postures that follow the natural cycle of these elements.  For me personally\, Taoist Yoga has been the foundation and strength behind everything that I do. Wear comfortable clothing\, bring a yoga mat and a notebook if you wish to take notes. Class size is limited\, Cost of class is $60\, a $20 non-refundable deposit is due at registration and balance due the day of class. Private group classes can also be scheduled. Contact me to register by 10/25. \nPlease see the Classes and Continuing Education Page for important information about continuing education classes for LMT’s.
URL:https://integrativehealingartsstudio.org/event/taoist-yoga-self-care-class/
LOCATION:Integrative Healing Arts Studio\, 546 Penn Ave\, West Reading\, 19611\, United States
CATEGORIES:Classes,Continuing Education
ATTACH;FMTTYPE=image/jpeg:https://integrativehealingartsstudio.org/wp-content/uploads/2015/10/5-elements-e1458609798177.jpg
END:VEVENT
BEGIN:VEVENT
DTSTART;TZID=America/New_York:20161106T093000
DTEND;TZID=America/New_York:20161106T123000
DTSTAMP:20260423T222312
CREATED:20160916T201146Z
LAST-MODIFIED:20161103T110735Z
UID:876-1478424600-1478435400@integrativehealingartsstudio.org
SUMMARY:Crystal Therapy Beginner Class
DESCRIPTION:There is still room\, contact me directly to register-*Learning about crystals is fun with friends\, register with a friend for $10 off each! *Crystals and gemstones have been used for thousands of years as powerful healing aids. We may not always be conscious of it\, but Crystal Therapy is part of our everyday life. We use the power of crystals in the form of rock salt and season our food using table salt crystals. Many people wear precious\, semi-precious stones and different minerals not only as jewelry but for their healing benefits as well.  Crystal healing is a powerful\, yet gentle therapy that works on all levels of the body\, mind and spirit. Crystals have the potential to help all of us in a specialized way. You’ll discover how they can draw in and radiate healing energy specific to each symptom of illness. \nThis is a beginner class for those that are new to crystals or would like to further their knowledge in the use of crystals. Class time is 3 hours.  In this class we will explore how crystals synchronize with the seven major chakras for healing and clearing of energy fields.  A set of chakra stones and a pendulum will be included in the price of the class.  We will focus on the healing properties of the stones given in the class and how to use them. \nIn addition\, this class explains how to store and care for your crystals by cleaning\, clearing and charging them to amplify their healing abilities. We’ll also focus on some of the ways crystals and other stones are used in healing methods\, enhancing meditation\, and promoting spiritual development. \nThis class will give you a deeper understanding in one of Mother Nature’s wonderful and natural therapies\, and you’ll soon find yourself pleasantly involved in crystal energy as part of your daily life.\n\nIf you are a Licensed Massage Therapist\, 3 CEU’s will be awarded for this class.  You will learn how to use Crystal Therapy as a stand alone service or how to integrate crystals into your massage sessions.Please see the Classes and Continuing Education Page for important information about continuing education classes.\n\nIf you are a Reiki practitioner crystals can be a wonderful addition to your services as well.  I will show you ways to integrate crystals into your Reiki sessions.\n\nFor this class we will be working on yoga mats.  Please bring one if you have one\, if not I have some extra. Wear comfortable clothing.\n\nCost of class is $75 and includes crystals and a pendulum. Class size is limited to 6 people.  Registration is required prior to class with a non-refundable deposit of $25.
URL:https://integrativehealingartsstudio.org/event/crystal-therapy-beginner-class-4/
LOCATION:Integrative Healing Arts Studio\, 546 Penn Ave\, West Reading\, 19611\, United States
CATEGORIES:Classes,Continuing Education
END:VEVENT
BEGIN:VEVENT
DTSTART;TZID=America/New_York:20160911T093000
DTEND;TZID=America/New_York:20160911T133000
DTSTAMP:20260423T222312
CREATED:20160711T200453Z
LAST-MODIFIED:20160901T024819Z
UID:737-1473586200-1473600600@integrativehealingartsstudio.org
SUMMARY:Crystal Therapy Level II
DESCRIPTION:This class is for those that have already taken my Crystal Therapy Beginner Class and would like to expand upon the knowledge learned in the first class. 4 CE’s are awarded for licensed massage therapists. Class time is 4 hours. Contact me to register. \nRequired Supplies­-yoga mat\, all other supplies will be provided and are included in the class price of $95\, there is a $25 non-refundable deposit due during registration.  \n This class is a mixture of lecture and hands on training\, you will: \n●  Receive knowledge of the stones included in this course\, including crystal wands and how they are used. \n●  Learn about other crystal healing techniques not covered in the basic course \n●  In depth hands on practice of crystal therapy on each other under supervision of instructor \n\n\nLearn how to use these techniques as single services or add on services to your existing practice\n\n\n\nLearning Objectives & Outcomes \n           Upon completion of this course students will demonstrate proficiency in the understanding of the stones used in this course and be able to perform a more advanced crystal therapy session.
URL:https://integrativehealingartsstudio.org/event/crystal-therapy-level-ii/
LOCATION:Integrative Healing Arts Studio\, 546 Penn Ave\, West Reading\, 19611\, United States
CATEGORIES:Classes
ATTACH;FMTTYPE=image/jpeg:https://integrativehealingartsstudio.org/wp-content/uploads/2015/10/IMG_0031.jpg
END:VEVENT
BEGIN:VEVENT
DTSTART;TZID=America/New_York:20160904T093000
DTEND;TZID=America/New_York:20160904T123000
DTSTAMP:20260423T222312
CREATED:20160711T201218Z
LAST-MODIFIED:20161004T225446Z
UID:738-1472981400-1472992200@integrativehealingartsstudio.org
SUMMARY:Crystal Therapy Beginner Class
DESCRIPTION:There will be a date change for this class\, to be posted soon…most likely late October or sometime in November contact me if interested…*Learning about crystals is fun with friends\, register with a friend for $10 off each! *Crystals and gemstones have been used for thousands of years as powerful healing aids. We may not always be conscious of it\, but Crystal Therapy is part of our everyday life. We use the power of crystals in the form of rock salt and season our food using table salt crystals. Many people wear precious\, semi-precious stones and different minerals not only as jewelry but for their healing benefits as well.  Crystal healing is a powerful\, yet gentle therapy that works on all levels of the body\, mind and spirit. Crystals have the potential to help all of us in a specialized way. You’ll discover how they can draw in and radiate healing energy specific to each symptom of illness. \nThis is a beginner class for those that are new to crystals or would like to further their knowledge in the use of crystals. Class time is 3 hours.  In this class we will explore how crystals synchronize with the seven major chakras for healing and clearing of energy fields.  A set of chakra stones and a pendulum will be included in the price of the class.  We will focus on the healing properties of the stones given in the class and how to use them. \nIn addition\, this class explains how to store and care for your crystals by cleaning\, clearing and charging them to amplify their healing abilities. We’ll also focus on some of the ways crystals and other stones are used in healing methods\, enhancing meditation\, and promoting spiritual development. \nThis class will give you a deeper understanding in one of Mother Nature’s wonderful and natural therapies\, and you’ll soon find yourself pleasantly involved in crystal energy as part of your daily life.\n\nIf you are a Licensed Massage Therapist\, 3 CEU’s will be awarded for this class.  You will learn how to use Crystal Therapy as a stand alone service or how to integrate crystals into your massage sessions.Please see the Classes and Continuing Education Page for important information about continuing education classes.\n\nIf you are a Reiki practitioner crystals can be a wonderful addition to your services as well.  I will show you ways to integrate crystals into your Reiki sessions.\n\nFor this class we will be working on yoga mats.  Please bring one if you have one.  Wear comfortable clothing.\n\nCost of class is $75 and includes crystals and a pendulum. Class size is limited to 6 people.  Registration is required prior to class with a non-refundable deposit of $25.
URL:https://integrativehealingartsstudio.org/event/crystal-therapy-beginner-class-3/
LOCATION:Integrative Healing Arts Studio\, 546 Penn Ave\, West Reading\, 19611\, United States
CATEGORIES:Classes
END:VEVENT
BEGIN:VEVENT
DTSTART;TZID=America/New_York:20160724T110000
DTEND;TZID=America/New_York:20160724T120000
DTSTAMP:20260423T222312
CREATED:20160706T130244Z
LAST-MODIFIED:20160706T130244Z
UID:715-1469358000-1469361600@integrativehealingartsstudio.org
SUMMARY:Integrative Healing Arts Studio Tea Talk Featuring Tulsi\, Holy Basil
DESCRIPTION:A tea talk is where we gather in a circle\, have tea\, and learn about the healing benefits of a featured tea or herb. At the end of the tea talk you will be provided with some of the tea to take home and enjoy. During this relaxing and informative talk we discuss the uses of the herb\, how to prepare a tea\, and anything else that may come up. \nTulsi\, Holy Basil\, known as “Queen of Herbs” and “The Incomparable One” is one of the most sacred plants in India and is used as an Ayurvedic tea herb. Tulsi has profound medicinal and spiritual effects and has been used for centuries for its benefits for the mind~body~spirit. One of the main therapeutic actions of holy basil is to act as an adaptogen in the body which promote’s the body’s natural healing abilities and helps it respond better to physical\, mental\, and emotional stress\, it is also a powerful anti-oxidant and beneficial for all body systems. \nThis class approximately one hour long.  Cost of class is $15. Registration is required and payment is due at time of registration.  Space is limited and fills up quickly.  Non-refundable if cancelled without 24 hour notice before class.
URL:https://integrativehealingartsstudio.org/event/integrative-healing-arts-studio-tea-talk-featuring-tulsi-holy-basil/
LOCATION:Integrative Healing Arts Studio\, 546 Penn Ave\, West Reading\, 19611\, United States
CATEGORIES:Classes,Tea Talk
ATTACH;FMTTYPE=image/jpeg:https://integrativehealingartsstudio.org/wp-content/uploads/2016/07/IMG_2924.jpg
END:VEVENT
END:VCALENDAR