BEGIN:VCALENDAR
VERSION:2.0
PRODID:-//Integrative Healing Arts Studio - ECPv6.15.17.1//NONSGML v1.0//EN
CALSCALE:GREGORIAN
METHOD:PUBLISH
X-ORIGINAL-URL:https://integrativehealingartsstudio.org
X-WR-CALDESC:Events for Integrative Healing Arts Studio
REFRESH-INTERVAL;VALUE=DURATION:PT1H
X-Robots-Tag:noindex
X-PUBLISHED-TTL:PT1H
BEGIN:VTIMEZONE
TZID:America/New_York
BEGIN:DAYLIGHT
TZOFFSETFROM:-0500
TZOFFSETTO:-0400
TZNAME:EDT
DTSTART:20150308T070000
END:DAYLIGHT
BEGIN:STANDARD
TZOFFSETFROM:-0400
TZOFFSETTO:-0500
TZNAME:EST
DTSTART:20151101T060000
END:STANDARD
BEGIN:DAYLIGHT
TZOFFSETFROM:-0500
TZOFFSETTO:-0400
TZNAME:EDT
DTSTART:20160313T070000
END:DAYLIGHT
BEGIN:STANDARD
TZOFFSETFROM:-0400
TZOFFSETTO:-0500
TZNAME:EST
DTSTART:20161106T060000
END:STANDARD
BEGIN:DAYLIGHT
TZOFFSETFROM:-0500
TZOFFSETTO:-0400
TZNAME:EDT
DTSTART:20170312T070000
END:DAYLIGHT
BEGIN:STANDARD
TZOFFSETFROM:-0400
TZOFFSETTO:-0500
TZNAME:EST
DTSTART:20171105T060000
END:STANDARD
BEGIN:DAYLIGHT
TZOFFSETFROM:-0500
TZOFFSETTO:-0400
TZNAME:EDT
DTSTART:20180311T070000
END:DAYLIGHT
BEGIN:STANDARD
TZOFFSETFROM:-0400
TZOFFSETTO:-0500
TZNAME:EST
DTSTART:20181104T060000
END:STANDARD
BEGIN:DAYLIGHT
TZOFFSETFROM:-0500
TZOFFSETTO:-0400
TZNAME:EDT
DTSTART:20190310T070000
END:DAYLIGHT
BEGIN:STANDARD
TZOFFSETFROM:-0400
TZOFFSETTO:-0500
TZNAME:EST
DTSTART:20191103T060000
END:STANDARD
BEGIN:DAYLIGHT
TZOFFSETFROM:-0500
TZOFFSETTO:-0400
TZNAME:EDT
DTSTART:20200308T070000
END:DAYLIGHT
BEGIN:STANDARD
TZOFFSETFROM:-0400
TZOFFSETTO:-0500
TZNAME:EST
DTSTART:20201101T060000
END:STANDARD
BEGIN:DAYLIGHT
TZOFFSETFROM:-0500
TZOFFSETTO:-0400
TZNAME:EDT
DTSTART:20210314T070000
END:DAYLIGHT
BEGIN:STANDARD
TZOFFSETFROM:-0400
TZOFFSETTO:-0500
TZNAME:EST
DTSTART:20211107T060000
END:STANDARD
BEGIN:DAYLIGHT
TZOFFSETFROM:-0500
TZOFFSETTO:-0400
TZNAME:EDT
DTSTART:20220313T070000
END:DAYLIGHT
BEGIN:STANDARD
TZOFFSETFROM:-0400
TZOFFSETTO:-0500
TZNAME:EST
DTSTART:20221106T060000
END:STANDARD
BEGIN:DAYLIGHT
TZOFFSETFROM:-0500
TZOFFSETTO:-0400
TZNAME:EDT
DTSTART:20230312T070000
END:DAYLIGHT
BEGIN:STANDARD
TZOFFSETFROM:-0400
TZOFFSETTO:-0500
TZNAME:EST
DTSTART:20231105T060000
END:STANDARD
END:VTIMEZONE
BEGIN:VEVENT
DTSTART;TZID=America/New_York:20220610T170000
DTEND;TZID=America/New_York:20220610T200000
DTSTAMP:20260423T170223
CREATED:20220530T151108Z
LAST-MODIFIED:20220530T151108Z
UID:5457-1654880400-1654891200@integrativehealingartsstudio.org
SUMMARY:2nd Friday Open Hours and Easels on the Avenue
DESCRIPTION:Come out for West Reading 2nd Friday and Easels on the Avenue\, talented artists will be lining the streets. Raven’s Corner Herbals & Enchantments\, the studio’s healing boutique will be open from 5pm-8pm during the event.
URL:https://integrativehealingartsstudio.org/event/2nd-friday-open-hours-and-easels-on-the-avenue/
LOCATION:Integrative Healing Arts Studio\, 546 Penn Ave\, West Reading\, 19611\, United States
CATEGORIES:2nd Friday Open House
END:VEVENT
BEGIN:VEVENT
DTSTART;TZID=America/New_York:20211210T170000
DTEND;TZID=America/New_York:20211210T190000
DTSTAMP:20260423T170223
CREATED:20211112T130427Z
LAST-MODIFIED:20211205T154919Z
UID:5016-1639155600-1639162800@integrativehealingartsstudio.org
SUMMARY:2nd Friday Open Hours and Holiday Sale
DESCRIPTION:Stop in between 5pm-7pm. Shop enchantments for that special someone. Most items will be 10% off. Anyone that purchases an item this evening will be entered to win a gift basket full of tea lights\, herbal tea\, and other enchantments this evening only!
URL:https://integrativehealingartsstudio.org/event/2nd-friday-open-hours-and-holiday-sale/
LOCATION:Integrative Healing Arts Studio\, 546 Penn Ave\, West Reading\, 19611\, United States
CATEGORIES:2nd Friday Open House,Healing Boutique Open Hours
END:VEVENT
BEGIN:VEVENT
DTSTART;TZID=America/New_York:20210910T130000
DTEND;TZID=America/New_York:20210910T200000
DTSTAMP:20260423T170223
CREATED:20210426T230804Z
LAST-MODIFIED:20210822T125336Z
UID:4795-1631278800-1631304000@integrativehealingartsstudio.org
SUMMARY:Aura Photo Day  and 2nd Friday Boutique Hours
DESCRIPTION:We often identify ourselves by what we see and how we feel. How would you like to see yourself in a fresh new light and feel something magical inside?\nIntegrative Healing Arts Studio is hosting an Aura Photo day for you on Friday\, September 10th from noon until 8 pm Call\n610 451 9577 to schedule a 15 minutes session. Small groups are welcome. Appointments are appreciated\, walk-ins welcome. The session cost is $35.00\nAn Aura experience will show you your Charka and Aura frequency energies in real-time. The live feed plays out your energies in full color\, then you will receive a printed scan pic\, an encouraging discussion\, and a multiple page system-generated report as an email.\nCome out and support your local small business as they offer you this incredible opportunity to see yourself in a fresh new way.\nfor more information\, I am here for you\nSondra Lambert auraphoto.us@gmail.com \nThis day is also a West Reading 2nd Friday\, enjoy the day on the Avenue!  The boutique will be open from 1pm-8pm during the event. You can reserve your space at the link below.
URL:https://integrativehealingartsstudio.org/event/aura-photo-day-and-2nd-friday-boutique-hours/
LOCATION:Integrative Healing Arts Studio\, 546 Penn Ave\, West Reading\, 19611\, United States
CATEGORIES:2nd Friday Open House
ATTACH;FMTTYPE=image/png:https://integrativehealingartsstudio.org/wp-content/uploads/2021/04/179305369_901478524036446_3416482667319046516_n.png
END:VEVENT
BEGIN:VEVENT
DTSTART;TZID=America/New_York:20191213T170000
DTEND;TZID=America/New_York:20191213T190000
DTSTAMP:20260423T170223
CREATED:20191105T124007Z
LAST-MODIFIED:20191210T122343Z
UID:3863-1576256400-1576263600@integrativehealingartsstudio.org
SUMMARY:2nd Friday Open Hours
DESCRIPTION:Join us during West Reading 2nd Friday\, the studio will have open hours from 5pm-7pm and holiday specials include 10% off most items in the healing boutique and 20% off gift certificates. Gemstone diffuser bracelets are buy one get one 1/2 price!  Hope to see you!
URL:https://integrativehealingartsstudio.org/event/2nd-friday-open-hours-6/
LOCATION:Integrative Healing Arts Studio\, 546 Penn Ave\, West Reading\, 19611\, United States
CATEGORIES:2nd Friday Open House
END:VEVENT
BEGIN:VEVENT
DTSTART;TZID=America/New_York:20191108T170000
DTEND;TZID=America/New_York:20191108T193000
DTSTAMP:20260423T170223
CREATED:20191104T230004Z
LAST-MODIFIED:20191104T230004Z
UID:3857-1573232400-1573241400@integrativehealingartsstudio.org
SUMMARY:2nd Friday Open Hours
DESCRIPTION:Join us for West Reading 2nd Friday\, we will be here from 5:00pm-7:30pm! \nNew enchantments in the healing boutique and specials offered by Integrative Healing Arts and Summit Massage LLC. \nHope to see you!
URL:https://integrativehealingartsstudio.org/event/2nd-friday-open-hours-5/
LOCATION:Integrative Healing Arts Studio\, 546 Penn Ave\, West Reading\, 19611\, United States
CATEGORIES:2nd Friday Open House
END:VEVENT
BEGIN:VEVENT
DTSTART;TZID=America/New_York:20190913T170000
DTEND;TZID=America/New_York:20190913T193000
DTSTAMP:20260423T170223
CREATED:20190908T212939Z
LAST-MODIFIED:20190908T212939Z
UID:3763-1568394000-1568403000@integrativehealingartsstudio.org
SUMMARY:2nd Friday Open Hours
DESCRIPTION:Come out to West Reading for 2nd Friday\, shops stay open late\, enjoy some live music outside. The studio will be open from 5:00-7:30 and offering 10% off most items in the healing boutique. \nSydney from Summit massage\, located here within the studio\, is offering 20% off for new client bookings\, if you book and pay for an appointment during the event get an additional $5.00 off! \nHope to see you!
URL:https://integrativehealingartsstudio.org/event/2nd-friday-open-hours-4/
LOCATION:Integrative Healing Arts Studio\, 546 Penn Ave\, West Reading\, 19611\, United States
CATEGORIES:2nd Friday Open House
ATTACH;FMTTYPE=image/png:https://integrativehealingartsstudio.org/wp-content/uploads/2019/09/IMG_9805.png
END:VEVENT
BEGIN:VEVENT
DTSTART;TZID=America/New_York:20190809T170000
DTEND;TZID=America/New_York:20190809T200000
DTSTAMP:20260423T170223
CREATED:20190725T015943Z
LAST-MODIFIED:20190802T112942Z
UID:3699-1565370000-1565380800@integrativehealingartsstudio.org
SUMMARY:2nd Friday Enchanted Evening of Healing
DESCRIPTION:Join us for an Enchanted Evening of Healing during West Reading’s 2nd Friday from 5pm-8pm. An eclectic assortment of healing practitioners will be here for the evening and available services and items will include: \nReiki~Chair Massage~Reflexology~Crystal healing~Intuitive Readings~Wire Wrapped Crystal Jewelry~Crystals ~Herbal teas~Enchanted tea lights~Aromatherapy products~& more! \nThis event is held at Integrative Healing Arts Studio’s West Reading location. It is a 2nd Floor studio\, enter at 546 Penn Ave and follow the rose petals up the stairs! \nPractitioners include: \nRuby Tolani~Intuitive Energy Reader~Ruby provides intuitive guidance by connecting to your energy and bringing forth messages that serve your soul. Ruby provides guidance from the other side to better your role to improve your current lifetime. Ruby is also a medium to spirit and can connect to your spiritual team to help you with healing. Ruby will be providing Intuitive Energy Readings throughout the evening\, 15 minutes $15. \nMichelle Cavanaugh~Michelle has been into energy healing for about six years. She first became a Reiki Master then went on to Chirology (the study of the hand). She became certified in Advanced Theta Healing. Michelle’s passion lies with the animals and for about three years Michelle has been focused on healing and communicating with pets. She is known in the area as the Pet Communicator. She has worked at several healing centers in the area where pets have been brought to the center for healing and also communication with pets on the other side. Stop by and say hi! Michelle would love to meet you. Michelle will be providing Animal Communication 20 minutes for $15\, Oracle Card Readings 20 minutes $15\, Chirology(Reading on your finger prints & feel of skin) 20 minutes $15 \nSydney Mallatratt\, LMT\, Summit Massage LLC will be providing Chair Massage- 15 minutes $15 \nBohemian Elementz\, Handmade wire wrapped jewelry with crystals and gemstones. Jewelry made with intentions to raise your vibration! All made by Morgan Mull. \nChristina Rossi\, LMT\, HHP\, RMT will be offering mini Reiki sessions\, Reflexology with warm stones & customized aromatherapy for $15/15 minutes\, Crystal Consultations $20/15 minutes (includes 3 crystals) \nThe talented artists of Wicked Mystic Art and Tattoo Studio will be here painting and drawing\, art will be available for sale. \nThe Healing Boutique will be open for the evening with crystals\, herbal teas\, crystal aromatherapy bracelets\, enchanted tea lights\, and more. \n  \n 
URL:https://integrativehealingartsstudio.org/event/2nd-friday-enchanted-evening-of-healing/
LOCATION:Integrative Healing Arts Studio\, 546 Penn Ave\, West Reading\, 19611\, United States
CATEGORIES:2nd Friday Open House,Healing Boutique Open Hours
ATTACH;FMTTYPE=image/png:https://integrativehealingartsstudio.org/wp-content/uploads/2019/07/IMG_9490.png
END:VEVENT
BEGIN:VEVENT
DTSTART;TZID=America/New_York:20190614T170000
DTEND;TZID=America/New_York:20190614T193000
DTSTAMP:20260423T170223
CREATED:20190520T123122Z
LAST-MODIFIED:20190606T224125Z
UID:3569-1560531600-1560540600@integrativehealingartsstudio.org
SUMMARY:2nd Friday Open Hours-West Reading Easels on The Avenue
DESCRIPTION:The West Reading studio will be open on 2nd Friday from 5pm-7:30pm. Come out to West Reading and enjoy summer evenings on the Avenue. Shops stay open late\, outside entertainment. Artists will be on the avenue painting during the event.  10% off items in the healing boutique and 15% off gift certificates.
URL:https://integrativehealingartsstudio.org/event/2nd-friday-open-hours-west-reading/
LOCATION:Integrative Healing Arts Studio\, 546 Penn Ave\, West Reading\, 19611\, United States
CATEGORIES:2nd Friday Open House
END:VEVENT
BEGIN:VEVENT
DTSTART;TZID=America/New_York:20190510T170000
DTEND;TZID=America/New_York:20190510T200000
DTSTAMP:20260423T170223
CREATED:20190405T231155Z
LAST-MODIFIED:20190407T005834Z
UID:3479-1557507600-1557518400@integrativehealingartsstudio.org
SUMMARY:2nd Friday Open House-Easels on the Avenue
DESCRIPTION:The studio will be open on 2nd Friday in May with specials in the healing boutique and service and class specials for those that stop in. Easels on the Avenue will be taking place all along Penn Ave\, make sure to check out the shops and artists along the way.
URL:https://integrativehealingartsstudio.org/event/2nd-friday-open-house-easels-on-the-avenue/
LOCATION:Integrative Healing Arts Studio\, 546 Penn Ave\, West Reading\, 19611\, United States
CATEGORIES:2nd Friday Open House,Healing Boutique Open Hours,Open House
END:VEVENT
BEGIN:VEVENT
DTSTART;TZID=America/New_York:20180810T170000
DTEND;TZID=America/New_York:20180810T200000
DTSTAMP:20260423T170223
CREATED:20180626T121402Z
LAST-MODIFIED:20180626T121402Z
UID:2879-1533920400-1533931200@integrativehealingartsstudio.org
SUMMARY:2nd Friday Open House
DESCRIPTION:Come out to the Avenue on 2nd Friday\, the studio will be celebrating with 10% off all items in the Healing Boutique!
URL:https://integrativehealingartsstudio.org/event/2nd-friday-open-house-10/
LOCATION:Integrative Healing Arts Studio\, 546 Penn Ave\, West Reading\, 19611\, United States
CATEGORIES:2nd Friday Open House,Healing Boutique Open Hours
END:VEVENT
BEGIN:VEVENT
DTSTART;TZID=America/New_York:20180713T170000
DTEND;TZID=America/New_York:20180713T200000
DTSTAMP:20260423T170223
CREATED:20180626T121216Z
LAST-MODIFIED:20180626T121216Z
UID:2877-1531501200-1531512000@integrativehealingartsstudio.org
SUMMARY:2nd Friday Open House
DESCRIPTION:Come out to the Avenue on 2nd Friday\, the studio will be celebrating with 10% off all items in the Healing Boutique!
URL:https://integrativehealingartsstudio.org/event/2nd-friday-open-house-9/
LOCATION:Integrative Healing Arts Studio\, 546 Penn Ave\, West Reading\, 19611\, United States
CATEGORIES:2nd Friday Open House,Healing Boutique Open Hours
END:VEVENT
BEGIN:VEVENT
DTSTART;TZID=America/New_York:20180511T170000
DTEND;TZID=America/New_York:20180511T193000
DTSTAMP:20260423T170223
CREATED:20180510T111535Z
LAST-MODIFIED:20180510T111535Z
UID:2793-1526058000-1526067000@integrativehealingartsstudio.org
SUMMARY:2nd Friday Open House
DESCRIPTION:It’s time for warm summer evenings and relaxing strolls down the Avenue again! The studio will be open for 2nd Friday from 5pm-7:30pm.
URL:https://integrativehealingartsstudio.org/event/2nd-friday-open-house-7/
LOCATION:Integrative Healing Arts Studio\, 546 Penn Ave\, West Reading\, 19611\, United States
CATEGORIES:2nd Friday Open House,Open House
ATTACH;FMTTYPE=image/jpeg:https://integrativehealingartsstudio.org/wp-content/uploads/2018/05/31357597_1961440380557281_4268178983679426560_n-1.jpg
END:VEVENT
BEGIN:VEVENT
DTSTART;TZID=America/New_York:20170908T173000
DTEND;TZID=America/New_York:20170908T193000
DTSTAMP:20260423T170223
CREATED:20170830T110213Z
LAST-MODIFIED:20170904T115852Z
UID:2049-1504891800-1504899000@integrativehealingartsstudio.org
SUMMARY:2nd Friday Open Hours~West Reading Give Back Night~Hurricane Donations
DESCRIPTION:The studio will be open from 5:30-7:30 for West Reading’s 2nd Friday.  West Reading is giving back this 2nd Friday and many of the businesses are raising money for the people affected by Hurricane Harvey. Stop in here at the studio and make a $10 donation to the American Red Cross and get a coupon for $10 off a service here at the studio! \nHope to see you!
URL:https://integrativehealingartsstudio.org/event/2nd-friday-open-hours-2/
LOCATION:Integrative Healing Arts Studio\, 546 Penn Ave\, West Reading\, 19611\, United States
CATEGORIES:2nd Friday Open House,Healing Boutique Open Hours,Open House
ATTACH;FMTTYPE=image/jpeg:https://integrativehealingartsstudio.org/wp-content/uploads/2015/10/3229EC85-F774-4195-B4F8-7B3CF3CE90A5.jpg
END:VEVENT
BEGIN:VEVENT
DTSTART;TZID=America/New_York:20170811T173000
DTEND;TZID=America/New_York:20170811T193000
DTSTAMP:20260423T170223
CREATED:20170807T004729Z
LAST-MODIFIED:20170808T115917Z
UID:1981-1502472600-1502479800@integrativehealingartsstudio.org
SUMMARY:2nd Friday Open House
DESCRIPTION:2nd Friday in West Reading and the studio will be open from 5:30-7:30.  2nd Friday studio specials will be available during this time. Sample a delicious herbal infusion. \nEvening specials include: Crystal consultations for only $15 (energy centers are assessed and a set of 3 crystals included) Free 1 card angel message for those that stop by. Schedule a Wellness Consultation for a future date for $10 off. Gift certificates 15% off. $10 off any 1 hour Increased Focus Massage scheduled and paid for this evening (Increased Focus massage includes warm stones).
URL:https://integrativehealingartsstudio.org/event/2nd-friday-open-house-6/
LOCATION:Integrative Healing Arts Studio\, 546 Penn Ave\, West Reading\, 19611\, United States
CATEGORIES:2nd Friday Open House
ATTACH;FMTTYPE=image/jpeg:https://integrativehealingartsstudio.org/wp-content/uploads/2017/05/9EC6CEEA-6F2F-4416-A511-CFDC1236CD80.jpg
END:VEVENT
BEGIN:VEVENT
DTSTART;TZID=America/New_York:20170722T130000
DTEND;TZID=America/New_York:20170722T153000
DTSTAMP:20260423T170223
CREATED:20170701T115626Z
LAST-MODIFIED:20170715T112217Z
UID:1922-1500728400-1500737400@integrativehealingartsstudio.org
SUMMARY:Open House & Fundraiser for French Bulldog Village~New Date Set
DESCRIPTION:***Update\, because of the looming storms around and flood warnings on the original date of Friday the 14th we decided it would be best to postpone the event.  We certainly wouldn’t want anyone or their sketches to get soaked! New date and time is Saturday July 22\, from 1pm-3:30pm. Please join us to support the French Bulldog Village.  Artist Jan Gaul of Wicked Mystic Art Studio has completed some beautiful pet sketches to raise money for the French Bulldog Village and they will be on display this evening. French Bulldog Village Fundraisers will be here with baked goods and other items. For any $10 donation made to them during the event I will give a coupon for $10 off any 1 hour service. Hope to see you! To learn more about French Bulldog Village click here
URL:https://integrativehealingartsstudio.org/event/2nd-friday-open-house-fundraiser-for-french-bulldog-village/
LOCATION:Integrative Healing Arts Studio\, 546 Penn Ave\, West Reading\, 19611\, United States
CATEGORIES:2nd Friday Open House
END:VEVENT
BEGIN:VEVENT
DTSTART;TZID=America/New_York:20170414T173000
DTEND;TZID=America/New_York:20170414T193000
DTSTAMP:20260423T170223
CREATED:20170311T134106Z
LAST-MODIFIED:20170415T003322Z
UID:1638-1492191000-1492198200@integrativehealingartsstudio.org
SUMMARY:2nd Friday Open House Celebrating 5 Years in Service
DESCRIPTION:Stop in during West Reading’s 2nd Friday and celebrate my 5 year in service anniversary! Client appreciation specials for the evening will include 10% off items in the healing boutique(some exclusions apply) \nHope to see you!
URL:https://integrativehealingartsstudio.org/event/2nd-friday-open-house-celebrating-5-years-in-service/
LOCATION:Integrative Healing Arts Studio\, 546 Penn Ave\, West Reading\, 19611\, United States
CATEGORIES:2nd Friday Open House,Healing Boutique Open Hours,Open House
END:VEVENT
BEGIN:VEVENT
DTSTART;TZID=America/New_York:20161111T170000
DTEND;TZID=America/New_York:20161111T190000
DTSTAMP:20260423T170223
CREATED:20161025T200238Z
LAST-MODIFIED:20161110T115515Z
UID:1001-1478883600-1478890800@integrativehealingartsstudio.org
SUMMARY:2nd Friday Open House
DESCRIPTION:The next 2nd Friday Open House is Friday November 11th.  If you would like to pick up anything from the healing boutique or have a custom blend ready for pick-up the hours this evening will be 5:00-7:00pm. Select services will be available time/availability  permitting: chair massage $1.00 per min\, short Reiki sessions (Reiki boost\, 15 min $15)\, 3 card angel card readings $10\, and chakra readings with customized crystal sets $15.  I will have a calming evening blend brewing in the teapot for tasting. You may reserve a time slot for any of these services by contacting me directly.
URL:https://integrativehealingartsstudio.org/event/2nd-friday-open-house-5/
LOCATION:Integrative Healing Arts Studio\, 546 Penn Ave\, West Reading\, 19611\, United States
CATEGORIES:2nd Friday Open House,Healing Boutique Open Hours
ATTACH;FMTTYPE=image/jpeg:https://integrativehealingartsstudio.org/wp-content/uploads/2016/07/FullSizeRender-13.jpg
END:VEVENT
BEGIN:VEVENT
DTSTART;TZID=America/New_York:20161014T053000
DTEND;TZID=America/New_York:20161014T200000
DTSTAMP:20260423T170223
CREATED:20160928T121059Z
LAST-MODIFIED:20161014T191841Z
UID:905-1476423000-1476475200@integrativehealingartsstudio.org
SUMMARY:2nd Friday Open House
DESCRIPTION:The studio hours for this Friday will be 5:30 pm-7:00pm. The perfect time to shop the healing boutique and pick up any needed items. Artist Jan Gaul will be here in his Wicked Mystic Art Studio with beautiful artwork for sale.
URL:https://integrativehealingartsstudio.org/event/2nd-friday-open-house-4/
LOCATION:Integrative Healing Arts Studio\, 546 Penn Ave\, West Reading\, 19611\, United States
CATEGORIES:2nd Friday Open House
ATTACH;FMTTYPE=image/jpeg:https://integrativehealingartsstudio.org/wp-content/uploads/2016/07/FullSizeRender-13.jpg
END:VEVENT
BEGIN:VEVENT
DTSTART;TZID=America/New_York:20160909T173000
DTEND;TZID=America/New_York:20160909T200000
DTSTAMP:20260423T170223
CREATED:20160908T140701Z
LAST-MODIFIED:20160908T140837Z
UID:860-1473442200-1473451200@integrativehealingartsstudio.org
SUMMARY:2nd Friday Open House
DESCRIPTION:Join us on Friday\, September 9th from 5:30-8pm for our 2nd Friday open house.  Shop the healing boutique\, Reiki\, chair massage\, angel card readings\, chakra readings with customized crystal sets\, and special deals for those that stop in! Artist Jan Gaul will be here in his Wicked Mystic Art Studio with beautiful healing lotus artwork for sale.
URL:https://integrativehealingartsstudio.org/event/2nd-friday-open-house-3/
LOCATION:Integrative Healing Arts Studio\, 546 Penn Ave\, West Reading\, 19611\, United States
CATEGORIES:2nd Friday Open House
ATTACH;FMTTYPE=image/jpeg:https://integrativehealingartsstudio.org/wp-content/uploads/2016/07/FullSizeRender-13.jpg
END:VEVENT
BEGIN:VEVENT
DTSTART;TZID=America/New_York:20160708T173000
DTEND;TZID=America/New_York:20160708T200000
DTSTAMP:20260423T170223
CREATED:20160627T124644Z
LAST-MODIFIED:20160627T124644Z
UID:668-1467999000-1468008000@integrativehealingartsstudio.org
SUMMARY:2nd Friday Open House
DESCRIPTION:Join us for West Reading’s 2nd Friday event\, the studio will be open from 5:30pm-8pm. Herbal Kitchen\, Healing Boutique\, Wicked Mystic artwork by Jan Gaul.  Chair massage\, short Reiki sessions\, and 3 card angel card readings. Special booking deals for those that stop in.
URL:https://integrativehealingartsstudio.org/event/2nd-friday-open-house-2/
LOCATION:Integrative Healing Arts Studio\, 546 Penn Ave\, West Reading\, 19611\, United States
CATEGORIES:2nd Friday Open House
END:VEVENT
END:VCALENDAR